BEGIN:VCALENDAR
VERSION:2.0
PRODID:-//OX14 Learning Partnership - ECPv6.15.20//NONSGML v1.0//EN
CALSCALE:GREGORIAN
METHOD:PUBLISH
X-ORIGINAL-URL:https://www.ox14lp.org.uk
X-WR-CALDESC:Events for OX14 Learning Partnership
REFRESH-INTERVAL;VALUE=DURATION:PT1H
X-Robots-Tag:noindex
X-PUBLISHED-TTL:PT1H
BEGIN:VTIMEZONE
TZID:Europe/London
BEGIN:DAYLIGHT
TZOFFSETFROM:+0000
TZOFFSETTO:+0100
TZNAME:BST
DTSTART:20230326T010000
END:DAYLIGHT
BEGIN:STANDARD
TZOFFSETFROM:+0100
TZOFFSETTO:+0000
TZNAME:GMT
DTSTART:20231029T010000
END:STANDARD
BEGIN:DAYLIGHT
TZOFFSETFROM:+0000
TZOFFSETTO:+0100
TZNAME:BST
DTSTART:20240331T010000
END:DAYLIGHT
BEGIN:STANDARD
TZOFFSETFROM:+0100
TZOFFSETTO:+0000
TZNAME:GMT
DTSTART:20241027T010000
END:STANDARD
BEGIN:DAYLIGHT
TZOFFSETFROM:+0000
TZOFFSETTO:+0100
TZNAME:BST
DTSTART:20250330T010000
END:DAYLIGHT
BEGIN:STANDARD
TZOFFSETFROM:+0100
TZOFFSETTO:+0000
TZNAME:GMT
DTSTART:20251026T010000
END:STANDARD
END:VTIMEZONE
BEGIN:VEVENT
DTSTART;TZID=Europe/London:20240305T090000
DTEND;TZID=Europe/London:20240305T160000
DTSTAMP:20260424T080652
CREATED:20240110T112728Z
LAST-MODIFIED:20240110T113758Z
UID:1217-1709629200-1709654400@www.ox14lp.org.uk
SUMMARY:This isn't going to hurt -Y12 Medics Day
DESCRIPTION:This is an invite only event for aspiring medics across our schools. 
URL:https://www.ox14lp.org.uk/event/this-isnt-going-to-hurt-y12-medics-day/
LOCATION:Radley College\, OX14 2HR
END:VEVENT
BEGIN:VEVENT
DTSTART;TZID=Europe/London:20240305T160000
DTEND;TZID=Europe/London:20240305T170000
DTSTAMP:20260424T080652
CREATED:20231204T113854Z
LAST-MODIFIED:20231204T113856Z
UID:1170-1709654400-1709658000@www.ox14lp.org.uk
SUMMARY:Academic Coaching Session 4
DESCRIPTION:Students who are part of this programme will work in coaching pairs/ groups to support individual goals and targets.
URL:https://www.ox14lp.org.uk/event/academic-coaching-session-4/
LOCATION:Abingdon School
END:VEVENT
BEGIN:VEVENT
DTSTART;TZID=Europe/London:20240305T173000
DTEND;TZID=Europe/London:20240305T183000
DTSTAMP:20260424T080652
CREATED:20231127T102104Z
LAST-MODIFIED:20231128T090214Z
UID:1151-1709659800-1709663400@www.ox14lp.org.uk
SUMMARY:Astronomy and Computing in Ancient Greece - the Story of the Amazing Antikythera Mechanism Mike Edmunds - President of the Royal Astronomical Society
DESCRIPTION:Save the date\, students are invited to attend this guest speaker event. Open to those with an interest in Astronomy. Please email ox14lp@abingdon.org.uk to register your interest.
URL:https://www.ox14lp.org.uk/event/professor-mike-edmunds-president-of-the-royal-astronomical-society/
LOCATION:Abingdon School
END:VEVENT
BEGIN:VEVENT
DTSTART;TZID=Europe/London:20240307T180000
DTEND;TZID=Europe/London:20240307T193000
DTSTAMP:20260424T080652
CREATED:20240206T100725Z
LAST-MODIFIED:20240206T102544Z
UID:1245-1709834400-1709839800@www.ox14lp.org.uk
SUMMARY:'Medics\, Vets\, Dentists and Physios' event
DESCRIPTION:  \n‘Medics\, Vets\, Dentists and Physios’ event | 6.00pm | Thursday 7 March 2024 | St Helen and St Katharine\, Abingdon \n  \nI would like to invite you and any interested Year 10\, 11 and 12 students and parents to our seventh ‘Medics\, Vets\, Dentists and Physios’ event which will be held at SHSK on Thursday 7 March at 6.00pm. The event will include a key note speech from Consultant Immunologist Will Bermingham\, subject-specific application and career advice\, and a Q&A. \nWe are happy for you to bring students as a group or for them to attend with parents/guardians. To sign up\, please use this link: \nhttps://forms.office.com/e/tAHPezUGNN \nApplying for Medicine and Veterinary Medicine Poster 2024 \n 
URL:https://www.ox14lp.org.uk/event/medics-vets-dentists-and-physios-event/
LOCATION:St Helen and St Katharine’s\, St Helen and St Katharine Faringdon Road Abingdon Oxfordshire OX14 1BE\, OX14 1BE\, United Kingdom
END:VEVENT
BEGIN:VEVENT
DTSTART;TZID=Europe/London:20240312T160000
DTEND;TZID=Europe/London:20240312T170000
DTSTAMP:20260424T080652
CREATED:20230626T091843Z
LAST-MODIFIED:20240122T111101Z
UID:1035-1710259200-1710262800@www.ox14lp.org.uk
SUMMARY:Oxbridge Club - Y11 Session 2
DESCRIPTION:More details to come
URL:https://www.ox14lp.org.uk/event/oxbridge-club-y11-session-2/
LOCATION:Fitzharrys School\, Northcourt Rd\, Abingdon OX14 1NP
END:VEVENT
BEGIN:VEVENT
DTSTART;TZID=Europe/London:20240312T160000
DTEND;TZID=Europe/London:20240312T170000
DTSTAMP:20260424T080652
CREATED:20231204T113935Z
LAST-MODIFIED:20231204T113941Z
UID:1172-1710259200-1710262800@www.ox14lp.org.uk
SUMMARY:Academic Coaching Session 5
DESCRIPTION:Students who are part of this programme will work in coaching pairs/ groups to support individual goals and targets.
URL:https://www.ox14lp.org.uk/event/academic-coaching-session-5/
LOCATION:Abingdon School
END:VEVENT
BEGIN:VEVENT
DTSTART;TZID=Europe/London:20240319T160000
DTEND;TZID=Europe/London:20240319T170000
DTSTAMP:20260424T080652
CREATED:20240312T104020Z
LAST-MODIFIED:20240312T105106Z
UID:1267-1710864000-1710867600@www.ox14lp.org.uk
SUMMARY:Academic Coaching - last session for Abingdon group
DESCRIPTION:This is the last session of Academic Coaching for those attending the Abingdon School sessions.
URL:https://www.ox14lp.org.uk/event/academic-coaching-last-session-for-abingdon-group/
LOCATION:Abingdon School
END:VEVENT
END:VCALENDAR