BEGIN:VCALENDAR
VERSION:2.0
PRODID:-//OX14 Learning Partnership - ECPv6.15.20//NONSGML v1.0//EN
CALSCALE:GREGORIAN
METHOD:PUBLISH
X-WR-CALNAME:OX14 Learning Partnership
X-ORIGINAL-URL:https://www.ox14lp.org.uk
X-WR-CALDESC:Events for OX14 Learning Partnership
REFRESH-INTERVAL;VALUE=DURATION:PT1H
X-Robots-Tag:noindex
X-PUBLISHED-TTL:PT1H
BEGIN:VTIMEZONE
TZID:Europe/London
BEGIN:DAYLIGHT
TZOFFSETFROM:+0000
TZOFFSETTO:+0100
TZNAME:BST
DTSTART:20230326T010000
END:DAYLIGHT
BEGIN:STANDARD
TZOFFSETFROM:+0100
TZOFFSETTO:+0000
TZNAME:GMT
DTSTART:20231029T010000
END:STANDARD
BEGIN:DAYLIGHT
TZOFFSETFROM:+0000
TZOFFSETTO:+0100
TZNAME:BST
DTSTART:20240331T010000
END:DAYLIGHT
BEGIN:STANDARD
TZOFFSETFROM:+0100
TZOFFSETTO:+0000
TZNAME:GMT
DTSTART:20241027T010000
END:STANDARD
BEGIN:DAYLIGHT
TZOFFSETFROM:+0000
TZOFFSETTO:+0100
TZNAME:BST
DTSTART:20250330T010000
END:DAYLIGHT
BEGIN:STANDARD
TZOFFSETFROM:+0100
TZOFFSETTO:+0000
TZNAME:GMT
DTSTART:20251026T010000
END:STANDARD
END:VTIMEZONE
BEGIN:VEVENT
DTSTART;TZID=Europe/London:20240206T160000
DTEND;TZID=Europe/London:20240206T170000
DTSTAMP:20260424T093030
CREATED:20231204T113532Z
LAST-MODIFIED:20240108T115443Z
UID:1164-1707235200-1707238800@www.ox14lp.org.uk
SUMMARY:Introduction to Academic Coaching - Coaches and Coachees
DESCRIPTION:Students who  have been selected to take part in this programme will be invited to come to an introductory session this week to find out more about the programme. This date is for students from Larkmead\, John Mason\, Abingdon and St Helens.
URL:https://www.ox14lp.org.uk/event/introduction-to-academic-coaching-coaches-and-coachees/
LOCATION:Larkmead School\, Faringdon road\, Abingdon\, OX14 1RF\, United Kingdom
END:VEVENT
BEGIN:VEVENT
DTSTART;TZID=Europe/London:20240206T160000
DTEND;TZID=Europe/London:20240206T170000
DTSTAMP:20260424T093030
CREATED:20240109T105713Z
LAST-MODIFIED:20240109T110325Z
UID:1210-1707235200-1707238800@www.ox14lp.org.uk
SUMMARY:History Lecture: Professor Stephen Gunn\, University of Oxford: The Later Tudors.
DESCRIPTION:A lecture for those studying History A Level. Please email ox14lp@abingdon.org.uk to attend or bring a group of students.
URL:https://www.ox14lp.org.uk/event/history-lecture-professor-stephen-gunn-university-of-oxford-the-later-tudors/
LOCATION:Abingdon School
END:VEVENT
BEGIN:VEVENT
DTSTART;TZID=Europe/London:20240219T170000
DTEND;TZID=Europe/London:20240219T180000
DTSTAMP:20260424T093030
CREATED:20240108T104224Z
LAST-MODIFIED:20240108T104737Z
UID:1200-1708362000-1708365600@www.ox14lp.org.uk
SUMMARY:Chemistry Lecture: Organometallic chemistry
DESCRIPTION:Students studying GCSE or A level Chemistry in OX14 LP schools are invited to attend this lecture at Radley College.  Hear from Professor Ulrich Fekl\, University of Toronto on Organometallic chemistry. \nMonday\, 19 February\, 5-6pm in the Science Lecture Theatre. \nPlease email ox14lp@abingdon.org.uk to attend.
URL:https://www.ox14lp.org.uk/event/chemistry-lecture-organometallic-chemistry/
LOCATION:Radley College\, OX14 2HR
END:VEVENT
BEGIN:VEVENT
DTSTART;TZID=Europe/London:20240220T160000
DTEND;TZID=Europe/London:20240220T170000
DTSTAMP:20260424T093030
CREATED:20231204T113728Z
LAST-MODIFIED:20231204T113730Z
UID:1166-1708444800-1708448400@www.ox14lp.org.uk
SUMMARY:Academic Coaching session 2
DESCRIPTION:Students who are part of this programme will work in coaching pairs/ groups to support individual goals and targets.
URL:https://www.ox14lp.org.uk/event/academic-coaching-session-2/
LOCATION:Abingdon School
END:VEVENT
BEGIN:VEVENT
DTSTART;TZID=Europe/London:20240220T171500
DTEND;TZID=Europe/London:20240220T181500
DTSTAMP:20260424T093030
CREATED:20240108T104546Z
LAST-MODIFIED:20240108T104600Z
UID:1202-1708449300-1708452900@www.ox14lp.org.uk
SUMMARY:Lecture: Quantum Computing 1
DESCRIPTION:Students studying GCSE or A level Chemistry in OX14 LP schools are invited to attend this lecture at Radley College.  Hear from Professor Ulrich Fekl\, University of Toronto. about Quantum Computing 1 \nTuesday\, 20 February\, 5.15-6.15pm: \nPlease email ox14lp@abingdon.org.uk to attend.
URL:https://www.ox14lp.org.uk/event/lecture-quantum-computing-1/
LOCATION:Radley College\, OX14 2HR
END:VEVENT
BEGIN:VEVENT
DTSTART;TZID=Europe/London:20240221T203000
DTEND;TZID=Europe/London:20240221T213000
DTSTAMP:20260424T093030
CREATED:20240108T104705Z
LAST-MODIFIED:20240108T104708Z
UID:1204-1708547400-1708551000@www.ox14lp.org.uk
SUMMARY:Lecture: Quantum Computing 2
DESCRIPTION:Students studying GCSE or A level Chemistry in OX14 LP schools are invited to attend this lecture at Radley College.  Hear from Professor Ulrich Fekl\, University of Toronto. about Quantum Computing 2 \nWednesday\, 21 February\, 8.30-9.30pm \nPlease email ox14lp@abingdon.org.uk to attend.
URL:https://www.ox14lp.org.uk/event/lecture-quantum-computing-2/
LOCATION:Radley College\, OX14 2HR
END:VEVENT
BEGIN:VEVENT
DTSTART;TZID=Europe/London:20240222T160000
DTEND;TZID=Europe/London:20240222T170000
DTSTAMP:20260424T093030
CREATED:20240110T124704Z
LAST-MODIFIED:20240110T124717Z
UID:1219-1708617600-1708621200@www.ox14lp.org.uk
SUMMARY:Philosophy Lecture: Dr Piers Benn on Moral Philosophy
DESCRIPTION:Sixth form students are invited to attend this lecture. Please email ox14lp@abingdon.org.uk to attend.
URL:https://www.ox14lp.org.uk/event/philosophy-lecture-dr-piers-benn-on-moral-philosophy/
LOCATION:Abingdon School
END:VEVENT
BEGIN:VEVENT
DTSTART;TZID=Europe/London:20240222T171500
DTEND;TZID=Europe/London:20240222T181500
DTSTAMP:20260424T093030
CREATED:20240108T105020Z
LAST-MODIFIED:20240108T105029Z
UID:1207-1708622100-1708625700@www.ox14lp.org.uk
SUMMARY:Lecture: Binding metals to adamantane
DESCRIPTION:Students studying GCSE or A level Chemistry in OX14 LP schools are invited to attend this lecture at Radley College.  Hear from Professor Ulrich Fekl\, University of Toronto on \nBinding metals to adamantane\nThursday\, 22 February\, 5.15-6.15pm in the Science Lecture Theatre. \nPlease email ox14lp@abingdon.org.uk to attend.
URL:https://www.ox14lp.org.uk/event/lecture-binding-metals-to-adamantane/
LOCATION:Radley College\, OX14 2HR
END:VEVENT
BEGIN:VEVENT
DTSTART;TZID=Europe/London:20240226T203000
DTEND;TZID=Europe/London:20240226T211500
DTSTAMP:20260424T093030
CREATED:20240110T090123Z
LAST-MODIFIED:20240111T110720Z
UID:1212-1708979400-1708982100@www.ox14lp.org.uk
SUMMARY:Talk: Private Equity
DESCRIPTION:The Investment Society at Radley College would like to invite students from across the partnership to a talk on Private Equity. Please email ox14lp@abingdon.org.uk to book a place. The talk is aimed at students in Year 9 and above who have an interest in finance and investment.
URL:https://www.ox14lp.org.uk/event/talk-private-equity/
LOCATION:Radley College\, OX14 2HR
END:VEVENT
BEGIN:VEVENT
DTSTART;TZID=Europe/London:20240227T160000
DTEND;TZID=Europe/London:20240227T170000
DTSTAMP:20260424T093030
CREATED:20231204T113812Z
LAST-MODIFIED:20231204T113813Z
UID:1168-1709049600-1709053200@www.ox14lp.org.uk
SUMMARY:Academic Coaching Session 3
DESCRIPTION:Students who are part of this programme will work in coaching pairs/ groups to support individual goals and targets.
URL:https://www.ox14lp.org.uk/event/academic-coaching-session-3/
LOCATION:Abingdon School
END:VEVENT
BEGIN:VEVENT
DTSTART;TZID=Europe/London:20240229T160000
DTEND;TZID=Europe/London:20240229T170000
DTSTAMP:20260424T093030
CREATED:20240110T105516Z
LAST-MODIFIED:20240110T112620Z
UID:1215-1709222400-1709226000@www.ox14lp.org.uk
SUMMARY:Peer Support Lead Training Session
DESCRIPTION:Existing Peer Support Leads are invited to attend this training session.
URL:https://www.ox14lp.org.uk/event/peer-support-lead-training-session-2/
LOCATION:Fitzharrys School\, Northcourt Rd\, Abingdon OX14 1NP
END:VEVENT
BEGIN:VEVENT
DTSTART;TZID=Europe/London:20240229T160000
DTEND;TZID=Europe/London:20240229T170000
DTSTAMP:20260424T093030
CREATED:20240110T124842Z
LAST-MODIFIED:20240110T124910Z
UID:1222-1709222400-1709226000@www.ox14lp.org.uk
SUMMARY:History lecture: The Legacy of WW1
DESCRIPTION:Sixth form students are invited to attend this lecture. Please email ox14lp@abingdon.org.uk to attend.
URL:https://www.ox14lp.org.uk/event/history-lecture-the-legacy-of-ww1/
LOCATION:Abingdon School
END:VEVENT
END:VCALENDAR