BEGIN:VCALENDAR
VERSION:2.0
PRODID:-//OX14 Learning Partnership - ECPv6.15.20//NONSGML v1.0//EN
CALSCALE:GREGORIAN
METHOD:PUBLISH
X-ORIGINAL-URL:https://www.ox14lp.org.uk
X-WR-CALDESC:Events for OX14 Learning Partnership
REFRESH-INTERVAL;VALUE=DURATION:PT1H
X-Robots-Tag:noindex
X-PUBLISHED-TTL:PT1H
BEGIN:VTIMEZONE
TZID:Europe/London
BEGIN:DAYLIGHT
TZOFFSETFROM:+0000
TZOFFSETTO:+0100
TZNAME:BST
DTSTART:20230326T010000
END:DAYLIGHT
BEGIN:STANDARD
TZOFFSETFROM:+0100
TZOFFSETTO:+0000
TZNAME:GMT
DTSTART:20231029T010000
END:STANDARD
BEGIN:DAYLIGHT
TZOFFSETFROM:+0000
TZOFFSETTO:+0100
TZNAME:BST
DTSTART:20240331T010000
END:DAYLIGHT
BEGIN:STANDARD
TZOFFSETFROM:+0100
TZOFFSETTO:+0000
TZNAME:GMT
DTSTART:20241027T010000
END:STANDARD
BEGIN:DAYLIGHT
TZOFFSETFROM:+0000
TZOFFSETTO:+0100
TZNAME:BST
DTSTART:20250330T010000
END:DAYLIGHT
BEGIN:STANDARD
TZOFFSETFROM:+0100
TZOFFSETTO:+0000
TZNAME:GMT
DTSTART:20251026T010000
END:STANDARD
END:VTIMEZONE
BEGIN:VEVENT
DTSTART;TZID=Europe/London:20240116T161500
DTEND;TZID=Europe/London:20240116T170000
DTSTAMP:20260424T105156
CREATED:20231204T113022Z
LAST-MODIFIED:20231204T113026Z
UID:1158-1705421700-1705424400@www.ox14lp.org.uk
SUMMARY:Academic Coaching Training - Session 1 Leadership
DESCRIPTION:Students selected for the Academic Coaching programme will come together for the first in a series of online training sessions. A link will be sent separately.
URL:https://www.ox14lp.org.uk/event/academic-coaching-training-session-1-leadership/
LOCATION:Online
END:VEVENT
BEGIN:VEVENT
DTSTART;TZID=Europe/London:20240116T200000
DTEND;TZID=Europe/London:20240116T204000
DTSTAMP:20260424T105156
CREATED:20231214T140944Z
LAST-MODIFIED:20231214T144159Z
UID:1192-1705435200-1705437600@www.ox14lp.org.uk
SUMMARY:Alternatives to University -Webinar
DESCRIPTION:Alternatives to university webinar \nTuesday 16 January\, 8pm-8.40pm \nA webinar introducing students to alternatives to going to university full time\, including studying for vocational qualifications and undertaking work-based learning\, such as apprenticeships and school leaver programmes. \nPresented by Mr Michael Triff\, Head of Career Guidance \nClick here to register
URL:https://www.ox14lp.org.uk/event/alternatives-to-university-webinar/
LOCATION:Online
END:VEVENT
BEGIN:VEVENT
DTSTART;TZID=Europe/London:20240118T203000
DTEND;TZID=Europe/London:20240118T213000
DTSTAMP:20260424T105156
CREATED:20231121T085706Z
LAST-MODIFIED:20231127T104341Z
UID:1139-1705609800-1705613400@www.ox14lp.org.uk
SUMMARY:Lord Vaizey: 'Cultural Policy in the UK'
DESCRIPTION:Lord Vaizey: Cultural Policy in the UK\n\n(From Wikipedia) British politician\, media columnist\, political commentator\, and barrister who was Minister for Culture\, Communications and Creative Industries from 2010 to 2016. A member of the Conservative Party\, he was Member of Parliament (MP) for Wantage from 2005 to 2019. It was announced on 31 July 2020 that Vaizey was to be raised to the peerage in the 2019 Dissolution Honours. He was created Baron Vaizey of Didcot\, of Wantage in the County of Oxfordshire in the afternoon of 1 September. \nThursday 18 January\, 2024\n \nRadley College Theatre\n \n8:30 pm\n\nPlease email ox14lp@abingdon.org.uk to attend.
URL:https://www.ox14lp.org.uk/event/ed-vaisey-lecture/
LOCATION:Radley College\, OX14 2HR
END:VEVENT
BEGIN:VEVENT
DTSTART;TZID=Europe/London:20240123T160000
DTEND;TZID=Europe/London:20240123T170000
DTSTAMP:20260424T105156
CREATED:20230626T091707Z
LAST-MODIFIED:20231214T100903Z
UID:1029-1706025600-1706029200@www.ox14lp.org.uk
SUMMARY:Oxbridge Club - Y11 Session
DESCRIPTION:More details to come
URL:https://www.ox14lp.org.uk/event/oxbridge-club-y12-session-2/
END:VEVENT
BEGIN:VEVENT
DTSTART;TZID=Europe/London:20240123T161500
DTEND;TZID=Europe/London:20240123T170000
DTSTAMP:20260424T105156
CREATED:20231204T113206Z
LAST-MODIFIED:20231204T113208Z
UID:1160-1706026500-1706029200@www.ox14lp.org.uk
SUMMARY:Academic Coaching - Training Session 2 The Coaching Conversation
DESCRIPTION:Students selected for the Academic Coaching programme will come together for the second in a series of online training sessions. A link will be sent separately.
URL:https://www.ox14lp.org.uk/event/academic-coaching-training-session-2-the-coaching-conversation/
LOCATION:Online
END:VEVENT
BEGIN:VEVENT
DTSTART;TZID=Europe/London:20240123T190000
DTEND;TZID=Europe/London:20240123T201500
DTSTAMP:20260424T105156
CREATED:20231120T134010Z
LAST-MODIFIED:20240115T114553Z
UID:1136-1706036400-1706040900@www.ox14lp.org.uk
SUMMARY:Gap Year Advice Evening Webinar 2024
DESCRIPTION:Gap Year Advice Evening Webinar 2024 \nTuesday 23 January 2024\, 7:00-8:15pm – on Zoom \nCo-hosted by Abingdon School and St Helen and St Katharine\, this Gap Year Advice Evening Webinar is designed for students and their parents from Abingdon School\, Fitzharrys\, John Mason\, Larkmead\, Our Lady’s Abingdon\, Radley College\, and St Helen and St Katharine. The webinar starts with a brief presentation on electing\, planning\, and managing a Gap Year. This is following by a further presentation from Independent Gap Advice (https://independentgapadvice.org/) on travel abroad during a Gap Year. Then\, a panel of school leavers from Abingdon School and SHSK will share their individual stories of what they did during their Gap Year and how they felt about the choices they made. This will be followed by a Q&A session for any of the speakers or panellists. The webinar will conclude at 8:15pm. \nLink to register: bit.ly/GapYearAdvice2024
URL:https://www.ox14lp.org.uk/event/gap-year-advice-evening-webinar-2024/
LOCATION:Online
END:VEVENT
BEGIN:VEVENT
DTSTART;TZID=Europe/London:20240125T160000
DTEND;TZID=Europe/London:20240125T170000
DTSTAMP:20260424T105156
CREATED:20231122T090635Z
LAST-MODIFIED:20231122T090635Z
UID:1145-1706198400-1706202000@www.ox14lp.org.uk
SUMMARY:Gandhi Lecture - Prof Faisal Devji
DESCRIPTION:A lecture for those studying History A Level. Please email ox14lp@abingdon.org.uk to attend or bring a group of students.
URL:https://www.ox14lp.org.uk/event/gandhi-lecture-prof-faisal-devji/
LOCATION:Abingdon School
END:VEVENT
BEGIN:VEVENT
DTSTART;TZID=Europe/London:20240129T161000
DTEND;TZID=Europe/London:20240129T170500
DTSTAMP:20260424T105156
CREATED:20231127T100545Z
LAST-MODIFIED:20231127T100912Z
UID:1147-1706544600-1706547900@www.ox14lp.org.uk
SUMMARY:Careers Leading from the study of Geography
DESCRIPTION:Please scan the QR code or follow the link here to sign up.
URL:https://www.ox14lp.org.uk/event/careers-leading-from-the-study-of-geography/
LOCATION:St Helen and St Katharine’s\, St Helen and St Katharine Faringdon Road Abingdon Oxfordshire OX14 1BE\, OX14 1BE\, United Kingdom
END:VEVENT
BEGIN:VEVENT
DTSTART;TZID=Europe/London:20240130T090000
DTEND;TZID=Europe/London:20240130T120000
DTSTAMP:20260424T105156
CREATED:20230427T082804Z
LAST-MODIFIED:20230427T082808Z
UID:974-1706605200-1706616000@www.ox14lp.org.uk
SUMMARY:Civil Engineering Challenge morning
DESCRIPTION:Year 9/ 10 students with an interest in Civil Engineering are invited to attend this team challenge day. Sign up to come
URL:https://www.ox14lp.org.uk/event/civil-engineering-challenge-morning/
LOCATION:Abingdon School
END:VEVENT
BEGIN:VEVENT
DTSTART;TZID=Europe/London:20240130T161500
DTEND;TZID=Europe/London:20240130T170000
DTSTAMP:20260424T105156
CREATED:20231204T113300Z
LAST-MODIFIED:20231204T113302Z
UID:1162-1706631300-1706634000@www.ox14lp.org.uk
SUMMARY:Academic Coaching - Training Session 3 Safeguarding
DESCRIPTION:Students selected for the Academic Coaching programme will come together for the last in a series of online training sessions. A link will be sent separately.
URL:https://www.ox14lp.org.uk/event/academic-coaching-training-session-3-safeguarding/
LOCATION:Online
END:VEVENT
END:VCALENDAR