BEGIN:VCALENDAR
VERSION:2.0
PRODID:-//OX14 Learning Partnership - ECPv6.15.20//NONSGML v1.0//EN
CALSCALE:GREGORIAN
METHOD:PUBLISH
X-WR-CALNAME:OX14 Learning Partnership
X-ORIGINAL-URL:https://www.ox14lp.org.uk
X-WR-CALDESC:Events for OX14 Learning Partnership
REFRESH-INTERVAL;VALUE=DURATION:PT1H
X-Robots-Tag:noindex
X-PUBLISHED-TTL:PT1H
BEGIN:VTIMEZONE
TZID:Europe/London
BEGIN:DAYLIGHT
TZOFFSETFROM:+0000
TZOFFSETTO:+0100
TZNAME:BST
DTSTART:20220327T010000
END:DAYLIGHT
BEGIN:STANDARD
TZOFFSETFROM:+0100
TZOFFSETTO:+0000
TZNAME:GMT
DTSTART:20221030T010000
END:STANDARD
BEGIN:DAYLIGHT
TZOFFSETFROM:+0000
TZOFFSETTO:+0100
TZNAME:BST
DTSTART:20230326T010000
END:DAYLIGHT
BEGIN:STANDARD
TZOFFSETFROM:+0100
TZOFFSETTO:+0000
TZNAME:GMT
DTSTART:20231029T010000
END:STANDARD
BEGIN:DAYLIGHT
TZOFFSETFROM:+0000
TZOFFSETTO:+0100
TZNAME:BST
DTSTART:20240331T010000
END:DAYLIGHT
BEGIN:STANDARD
TZOFFSETFROM:+0100
TZOFFSETTO:+0000
TZNAME:GMT
DTSTART:20241027T010000
END:STANDARD
END:VTIMEZONE
BEGIN:VEVENT
DTSTART;TZID=Europe/London:20231106T170000
DTEND;TZID=Europe/London:20231106T180000
DTSTAMP:20260424T134728
CREATED:20230913T114510Z
LAST-MODIFIED:20230913T114513Z
UID:1097-1699290000-1699293600@www.ox14lp.org.uk
SUMMARY:Jeremy Hunter - Dictators\, Despots and Tyrants
DESCRIPTION:Students in Year 11 and above at partner schools are invited to attend this lecture at Radley College. \nPlease email ox14lp@abingdon.org.uk to register.
URL:https://www.ox14lp.org.uk/event/jeremy-hunter-dictators-despots-and-tyrants/
LOCATION:Radley College\, OX14 2HR
END:VEVENT
BEGIN:VEVENT
DTSTART;TZID=Europe/London:20231107T090000
DTEND;TZID=Europe/London:20231107T123000
DTSTAMP:20260424T134728
CREATED:20230626T092211Z
LAST-MODIFIED:20230925T133254Z
UID:1043-1699347600-1699360200@www.ox14lp.org.uk
SUMMARY:InspirED Conference
DESCRIPTION:Year 10 speaker event \nMore details to come
URL:https://www.ox14lp.org.uk/event/inspireed-conference/
LOCATION:Radley College\, OX14 2HR
END:VEVENT
BEGIN:VEVENT
DTSTART;TZID=Europe/London:20231109T093000
DTEND;TZID=Europe/London:20231109T153000
DTSTAMP:20260424T134728
CREATED:20230607T131204Z
LAST-MODIFIED:20230920T131254Z
UID:1017-1699522200-1699543800@www.ox14lp.org.uk
SUMMARY:Business Language Challenge
DESCRIPTION:Business Language Challenge (3)Students are invited to join peers from across the town in this day long business challenge with a twist. Students will work in groups to market and sell a product using their chosen language. Open to students in Y10/11 who are studying German\, French or Spanish. Teachers please sign up here to bring a group.
URL:https://www.ox14lp.org.uk/event/business-language-challenge-2/
LOCATION:Abingdon School
END:VEVENT
BEGIN:VEVENT
DTSTART;TZID=Europe/London:20231109T160000
DTEND;TZID=Europe/London:20231109T170000
DTSTAMP:20260424T134728
CREATED:20230516T095107Z
LAST-MODIFIED:20231030T134314Z
UID:983-1699545600-1699549200@www.ox14lp.org.uk
SUMMARY:Peer Support Lead Training - Abingdon School
DESCRIPTION:Peer Support Lead students are invited to attend this training session.
URL:https://www.ox14lp.org.uk/event/peer-support-lead-training-location-tbc/
END:VEVENT
BEGIN:VEVENT
DTSTART;TZID=Europe/London:20231123T200000
DTEND;TZID=Europe/London:20231123T213000
DTSTAMP:20260424T134728
CREATED:20230913T120026Z
LAST-MODIFIED:20230913T120028Z
UID:1112-1700769600-1700775000@www.ox14lp.org.uk
SUMMARY:Rachmaninov 150 Celebrity Recital: Piers Lane
DESCRIPTION:Students and parents from partner schools are invited to attend this free concert at Radley College. \nLondon-based Australian pianist Piers Lane has a worldwide reputation as an engaging\, searching and highly versatile performer\, at home equally in solo\, chamber and concerto repertoire. Five times soloist at the BBC Proms\, Piers Lane’s wide-ranging concerto repertoire exceeds one hundred works and has led to engagements with many of the world’s great orchestras Please book a free ticket here. 
URL:https://www.ox14lp.org.uk/event/rachmaninov-150-celebrity-recital-piers-lane/
LOCATION:Radley College\, OX14 2HR
END:VEVENT
BEGIN:VEVENT
DTSTART;TZID=Europe/London:20231124T193000
DTEND;TZID=Europe/London:20231124T203000
DTSTAMP:20260424T134728
CREATED:20230707T094122Z
LAST-MODIFIED:20230711T110833Z
UID:1067-1700854200-1700857800@www.ox14lp.org.uk
SUMMARY:History lecture - 'Hitler'
DESCRIPTION:Adolf Hitler is one of the most studied men in history\, and yet the most important things we think we know about him are wrong.  Simms demonstrates that Hitler’s main preoccupation was not\, as widely believed\, the threat of Bolshevism\, but that of international capitalism and Anglo-America. These two fears drove both his antisemitism and his determination to secure the ‘living space’ necessary to survive in a world dominated by the British Empire and the United States. \nSixth form students are invited to attend this History Lecture with Prof Brendan Simms\, Cambridge. \nPlease email ox14lp@abingdon.org.uk to register.
URL:https://www.ox14lp.org.uk/event/history-lecture-hitler/
LOCATION:Radley College\, OX14 2HR
END:VEVENT
BEGIN:VEVENT
DTSTART;TZID=Europe/London:20231124T193000
DTEND;TZID=Europe/London:20231124T203000
DTSTAMP:20260424T134728
CREATED:20230913T114754Z
LAST-MODIFIED:20230913T114758Z
UID:1100-1700854200-1700857800@www.ox14lp.org.uk
SUMMARY:History Society: Professor Brendan Simms\, University of Cambridge
DESCRIPTION:Students in Year 11 and above at partner schools are invited to attend this lecture at Radley College. \nPlease email ox14lp@abingdon.org.uk to register.
URL:https://www.ox14lp.org.uk/event/history-society-professor-brendan-simms-university-of-cambridge/
LOCATION:Radley College\, OX14 2HR
END:VEVENT
BEGIN:VEVENT
DTSTART;TZID=Europe/London:20231127T161000
DTEND;TZID=Europe/London:20231127T170500
DTSTAMP:20260424T134728
CREATED:20230905T114251Z
LAST-MODIFIED:20231004T131540Z
UID:1079-1701101400-1701104700@www.ox14lp.org.uk
SUMMARY:After School Careers Talk: Careers in Media
DESCRIPTION:After School Careers Talk: Careers in Media \nStudents from across the OX14 Learning Partnership\, in Years 10\, 11 and Sixth Form\, are warmly invited to attend this event co-hosted by Abingdon School and St Helen and St Katharine. \nCome and gain an insight into a career in media:\n– What is it like working as a journalist\, radio/TV presenter\, or director/producer/editor?\n– What are key personal qualities and skills needed to succeed in a media career?\n– What are the rewards and sacrifices of working in media?\n– What are the different specialist occupations within media\, and the different educational routes into each? \nAfter School Careers Talks are especially useful to students interested in a profession\, but unsure of what that would entail. \nLocation: Duffield Building Lecture Theatre\, St Helen and St Katharine School \nSign up: bit.ly/OX14-MediaCareers \n\n\n  \n  \n 
URL:https://www.ox14lp.org.uk/event/career-insight-talk-media/
LOCATION:St Helen and St Katharine’s\, St Helen and St Katharine Faringdon Road Abingdon Oxfordshire OX14 1BE\, OX14 1BE\, United Kingdom
END:VEVENT
BEGIN:VEVENT
DTSTART;TZID=Europe/London:20231127T170000
DTEND;TZID=Europe/London:20231127T183000
DTSTAMP:20260424T134728
CREATED:20230905T081956Z
LAST-MODIFIED:20231127T094609Z
UID:1073-1701104400-1701109800@www.ox14lp.org.uk
SUMMARY:Superconductors and how we make them Super -Prof. Susannah Speller\, Oxford University
DESCRIPTION:Students from partner schools are invited to attend this lecture in the Radley College Science Lecture Theatre. Please register by emailing ox14lp@abingdon.org.uk
URL:https://www.ox14lp.org.uk/event/superconductors-and-how-we-make-them-super-prof-susannah-speller-oxford-university/
LOCATION:Radley College\, OX14 2HR
END:VEVENT
BEGIN:VEVENT
DTSTART;TZID=Europe/London:20231128T160000
DTEND;TZID=Europe/London:20231128T170000
DTSTAMP:20260424T134728
CREATED:20230626T091622Z
LAST-MODIFIED:20231010T100653Z
UID:1027-1701187200-1701190800@www.ox14lp.org.uk
SUMMARY:Oxbridge Club Y12
DESCRIPTION:More details to come
URL:https://www.ox14lp.org.uk/event/oxbridge-club-y11-session-1/
END:VEVENT
END:VCALENDAR