BEGIN:VCALENDAR
VERSION:2.0
PRODID:-//OX14 Learning Partnership - ECPv6.15.20//NONSGML v1.0//EN
CALSCALE:GREGORIAN
METHOD:PUBLISH
X-WR-CALNAME:OX14 Learning Partnership
X-ORIGINAL-URL:https://www.ox14lp.org.uk
X-WR-CALDESC:Events for OX14 Learning Partnership
REFRESH-INTERVAL;VALUE=DURATION:PT1H
X-Robots-Tag:noindex
X-PUBLISHED-TTL:PT1H
BEGIN:VTIMEZONE
TZID:Europe/London
BEGIN:DAYLIGHT
TZOFFSETFROM:+0000
TZOFFSETTO:+0100
TZNAME:BST
DTSTART:20220327T010000
END:DAYLIGHT
BEGIN:STANDARD
TZOFFSETFROM:+0100
TZOFFSETTO:+0000
TZNAME:GMT
DTSTART:20221030T010000
END:STANDARD
BEGIN:DAYLIGHT
TZOFFSETFROM:+0000
TZOFFSETTO:+0100
TZNAME:BST
DTSTART:20230326T010000
END:DAYLIGHT
BEGIN:STANDARD
TZOFFSETFROM:+0100
TZOFFSETTO:+0000
TZNAME:GMT
DTSTART:20231029T010000
END:STANDARD
BEGIN:DAYLIGHT
TZOFFSETFROM:+0000
TZOFFSETTO:+0100
TZNAME:BST
DTSTART:20240331T010000
END:DAYLIGHT
BEGIN:STANDARD
TZOFFSETFROM:+0100
TZOFFSETTO:+0000
TZNAME:GMT
DTSTART:20241027T010000
END:STANDARD
END:VTIMEZONE
BEGIN:VEVENT
DTSTART;TZID=Europe/London:20230425T160000
DTEND;TZID=Europe/London:20230425T171500
DTSTAMP:20260424T230045
CREATED:20230308T121756Z
LAST-MODIFIED:20230314T110346Z
UID:950-1682438400-1682442900@www.ox14lp.org.uk
SUMMARY:Oxbridge Club - Y12 session
DESCRIPTION:Existing Year 12 members are invited to this event. Information about this session will be added shortly.
URL:https://www.ox14lp.org.uk/event/oxbridge-club/
LOCATION:Fitzharrys School\, Northcourt Rd\, Abingdon OX14 1NP
END:VEVENT
BEGIN:VEVENT
DTSTART;TZID=Europe/London:20230426T193000
DTEND;TZID=Europe/London:20230426T203000
DTSTAMP:20260424T230045
CREATED:20230417T105244Z
LAST-MODIFIED:20230417T105249Z
UID:966-1682537400-1682541000@www.ox14lp.org.uk
SUMMARY:Parent Webinar - Supporting your child's mental health
DESCRIPTION:We are hosting a parent webinar for the OX14 Learning Partnership with Dr Mei Simmons\, a consultant psychiatrist on Wednesday 26th April at 7:30pm. Mei will explain how we can support our children’s mental health and will give practical advice on managing anxiety\, harmful behaviours and challenges with school attendance. \n\n\n\n\nParents from partner schools are invited to sign up here\, to receive the webinar link.\n\nSupporting your child’s mental health with consultant psychiatrist\, Dr Mei Simmons
URL:https://www.ox14lp.org.uk/event/parent-webinar-supporting-your-childs-mental-health/
LOCATION:Online
END:VEVENT
END:VCALENDAR