BEGIN:VCALENDAR
VERSION:2.0
PRODID:-//OX14 Learning Partnership - ECPv6.15.20//NONSGML v1.0//EN
CALSCALE:GREGORIAN
METHOD:PUBLISH
X-ORIGINAL-URL:https://www.ox14lp.org.uk
X-WR-CALDESC:Events for OX14 Learning Partnership
REFRESH-INTERVAL;VALUE=DURATION:PT1H
X-Robots-Tag:noindex
X-PUBLISHED-TTL:PT1H
BEGIN:VTIMEZONE
TZID:Europe/London
BEGIN:DAYLIGHT
TZOFFSETFROM:+0000
TZOFFSETTO:+0100
TZNAME:BST
DTSTART:20210328T010000
END:DAYLIGHT
BEGIN:STANDARD
TZOFFSETFROM:+0100
TZOFFSETTO:+0000
TZNAME:GMT
DTSTART:20211031T010000
END:STANDARD
BEGIN:DAYLIGHT
TZOFFSETFROM:+0000
TZOFFSETTO:+0100
TZNAME:BST
DTSTART:20220327T010000
END:DAYLIGHT
BEGIN:STANDARD
TZOFFSETFROM:+0100
TZOFFSETTO:+0000
TZNAME:GMT
DTSTART:20221030T010000
END:STANDARD
BEGIN:DAYLIGHT
TZOFFSETFROM:+0000
TZOFFSETTO:+0100
TZNAME:BST
DTSTART:20230326T010000
END:DAYLIGHT
BEGIN:STANDARD
TZOFFSETFROM:+0100
TZOFFSETTO:+0000
TZNAME:GMT
DTSTART:20231029T010000
END:STANDARD
END:VTIMEZONE
BEGIN:VTIMEZONE
TZID:UTC
BEGIN:STANDARD
TZOFFSETFROM:+0000
TZOFFSETTO:+0000
TZNAME:UTC
DTSTART:20210101T000000
END:STANDARD
END:VTIMEZONE
BEGIN:VEVENT
DTSTART;TZID=Europe/London:20221201T160000
DTEND;TZID=Europe/London:20221201T171000
DTSTAMP:20260425T044007
CREATED:20221123T085253Z
LAST-MODIFIED:20221124T133443Z
UID:832-1669910400-1669914600@www.ox14lp.org.uk
SUMMARY:Oxbridge Club - Session 1- THIS EVENT HAS BEEN POSTPONED UNTIL JANUARY
DESCRIPTION:Year 11 students with an interest in attending Oxford or Cambridge University are invited to join this club where they can find out more about topics such as applications\, interviews and student experience. The first event for Year 11 will be on Thursday 1 December\, arrivals at Fitzharrys from 4 for a 4.15 start and finishing around 5.10. Numbers are limited to around 15 students from each school  This first session is mainly designed to help students to get to know each other and to start exploring and debating some big questions. Sign up is via your Partnership Champion.
URL:https://www.ox14lp.org.uk/event/oxbridge-club-session-1/
LOCATION:Fitzharrys School\, Northcourt Rd\, Abingdon OX14 1NP
END:VEVENT
BEGIN:VEVENT
DTSTART;TZID=Europe/London:20221201T183000
DTEND;TZID=Europe/London:20221201T201500
DTSTAMP:20260425T044007
CREATED:20220524T115111Z
LAST-MODIFIED:20221003T093226Z
UID:668-1669919400-1669925700@www.ox14lp.org.uk
SUMMARY:North American Universities Advice Evening
DESCRIPTION:Come and find out more about applying to a North American University. This online talk will be open to Sixth form students from partner schools and their parents.  Please register here.
URL:https://www.ox14lp.org.uk/event/north-american-universities-advice-evening/
LOCATION:Online
END:VEVENT
BEGIN:VEVENT
DTSTART;TZID=UTC:20221206T110000
DTEND;TZID=UTC:20221206T213000
DTSTAMP:20260425T044007
CREATED:20221107T090616Z
LAST-MODIFIED:20221109T132257Z
UID:815-1670324400-1670362200@www.ox14lp.org.uk
SUMMARY:Lewis Dartnell Event
DESCRIPTION:Lewis Dartnell (1) \nStudents and teachers are invited to take part in a range of workshops and lectures with Author Lewis Dartnell. Teachers are asked to sign up for spaces by emailing ox14lp@abingdon.org.uk.  \nProfessor Lewis Dartnell (www.lewisdartnell.com) is based at the University of Westminster\, studying how life\, and signs of its existence\, might survive the intense cosmic radiation on the surface of Mars. He also holds an STFC Science in Society Fellowship\, and alongside his astrobiology research writes regular science articles in newspapers and magazines\, and has appeared in TV shows such as Horizon\, BBC Stargazing Live\, and Wonders of the Universe. He has published a popular science book introducing astrobiology\, “Life in the Universe: A Beginner’s Guide” (tinyurl.com/LifeInTheUniverse) and also an illustrated children’s book with Dorling Kindersley\, “My Tourists Guide to the Solar System” (tinyurl.com/TouristsGuide). His third book\, ‘The Knowledge: How to Rebuild our World from Scratch’ (www.the-knowledge.org) is a Sunday Times Book of the Year\, and is out now in paperback. \n11am Workshop Exoplanets and how to find them (Physics) \nWe’ve now discovered over 4\,000 extrasolar planets — worlds orbiting other suns in our galaxy. But on the whole we’ve never actually been able to see these exoplanets; we’ve been able to infer indirectly that they are there. So what tricks do astronomers use to discover incredibly remote planets? What information can we gather from our telescopes\, and therefore what can we tell about what an exoplanet is actually like? How can we tell if certain worlds are Earth-like and so potentially able to harbour life? In this workshop\, we’ll explore the science behind how you can discover and then characterise exoplanets. \n2.15 Astrobiology – The Hunt for alien life (Student lecture) \n‘Astrobiology’ is a brand new field of science\, encompassing research into the origins and limits of life on our own planet\, and where life might exist beyond the Earth. But what actually is ‘life’ and how did it emerge on our own world? What are the most extreme conditions terrestrial life can tolerate? And what would an alien actually look like – how realistic are the life-forms envisaged by science fiction novels and films over the years? Join Prof. Lewis Dartnell on a tour of the other planets and moons in our solar system which may harbour life\, and even further afield to alien worlds orbiting distant stars\, to explore one of the greatest questions ever asked: are we alone…? \n4.15 Workshop 2 How to define life and detect it (Biology/Chemistry) \nWe all know life when we see it on Earth — a tiger is obviously alive whereas a skeleton or rock are not — but how could you actually define what life is? What features or functions must something possess in order to be alive? And therefore\, how could you design an experiment that will test for life on another planet? In this workshop\, we’ll explore how astrobiologists think about life in fundamental terms and so know what we’re looking for with our scientific instrument aboard space probes. \nCommunity lecture : ORIGINS: How the Earth Shaped Human History\nWhen we talk about human history\, we focus on great leaders\, revolutions\, and technological advances. But how has the Earth itself determined our destiny? How has our planet made us? \nAs a species we are shaped by our environment. Geological forces drove our evolution in East Africa; mountainous terrain led to the development of democracy in Greece; and today voting behaviour in the United States follows the bed of an ancient sea. The human story is the story of these forces\, from plate tectonics and climate change\, to atmospheric circulation and ocean currents. \nBy taking us through millennia of human history\, and billions of years into our planet’s past\, Professor Lewis Dartnell tells us the ultimate origin story. When we reach the point where history becomes science we see a vast web of connections that underwrites our modern world and helps us face the challenges of the future. \nFrom the cultivation of the first crops to the founding of modern states\, Origins reveals the Earth’s awesome impact on the shape of human civilizations. Please book via the Amey theatre box office  \n 
URL:https://www.ox14lp.org.uk/event/lewis-dartnell-event/
LOCATION:Abingdon School
END:VEVENT
BEGIN:VEVENT
DTSTART;TZID=Europe/London:20221206T160000
DTEND;TZID=Europe/London:20221206T170000
DTSTAMP:20260425T044007
CREATED:20221129T095028Z
LAST-MODIFIED:20221129T095031Z
UID:839-1670342400-1670346000@www.ox14lp.org.uk
SUMMARY:Oxbridge club - Y12 group
DESCRIPTION:Existing Oxbridge club members are invited to attend the next session at Fitzharrys. Please note this is invite only. \n 
URL:https://www.ox14lp.org.uk/event/oxbridge-club-y12-group/
LOCATION:Fitzharrys School\, Northcourt Rd\, Abingdon OX14 1NP
END:VEVENT
END:VCALENDAR