BEGIN:VCALENDAR
VERSION:2.0
PRODID:-//OX14 Learning Partnership - ECPv6.15.20//NONSGML v1.0//EN
CALSCALE:GREGORIAN
METHOD:PUBLISH
X-ORIGINAL-URL:https://www.ox14lp.org.uk
X-WR-CALDESC:Events for OX14 Learning Partnership
REFRESH-INTERVAL;VALUE=DURATION:PT1H
X-Robots-Tag:noindex
X-PUBLISHED-TTL:PT1H
BEGIN:VTIMEZONE
TZID:UTC
BEGIN:STANDARD
TZOFFSETFROM:+0000
TZOFFSETTO:+0000
TZNAME:UTC
DTSTART:20210101T000000
END:STANDARD
END:VTIMEZONE
BEGIN:VTIMEZONE
TZID:Europe/London
BEGIN:DAYLIGHT
TZOFFSETFROM:+0000
TZOFFSETTO:+0100
TZNAME:BST
DTSTART:20210328T010000
END:DAYLIGHT
BEGIN:STANDARD
TZOFFSETFROM:+0100
TZOFFSETTO:+0000
TZNAME:GMT
DTSTART:20211031T010000
END:STANDARD
BEGIN:DAYLIGHT
TZOFFSETFROM:+0000
TZOFFSETTO:+0100
TZNAME:BST
DTSTART:20220327T010000
END:DAYLIGHT
BEGIN:STANDARD
TZOFFSETFROM:+0100
TZOFFSETTO:+0000
TZNAME:GMT
DTSTART:20221030T010000
END:STANDARD
BEGIN:DAYLIGHT
TZOFFSETFROM:+0000
TZOFFSETTO:+0100
TZNAME:BST
DTSTART:20230326T010000
END:DAYLIGHT
BEGIN:STANDARD
TZOFFSETFROM:+0100
TZOFFSETTO:+0000
TZNAME:GMT
DTSTART:20231029T010000
END:STANDARD
END:VTIMEZONE
BEGIN:VEVENT
DTSTART;TZID=UTC:20220608T193000
DTEND;TZID=UTC:20220608T210000
DTSTAMP:20260425T131828
CREATED:20220510T114314Z
LAST-MODIFIED:20220510T114314Z
UID:656-1654716600-1654722000@www.ox14lp.org.uk
SUMMARY:Talking to our Teens about Drugs and Substances - Parent webinar
DESCRIPTION:Parents and carers are welcome to join this webinar for support on navigating the legalities\, fears and stigma around substance use in teens. Sign up information will be sent by individual schools.
URL:https://www.ox14lp.org.uk/event/talking-to-our-teens-about-drugs-and-substances-parent-webinar/
LOCATION:Online
END:VEVENT
BEGIN:VEVENT
DTSTART;TZID=UTC:20220615T073000
DTEND;TZID=UTC:20220615T210000
DTSTAMP:20260425T131828
CREATED:20220510T114031Z
LAST-MODIFIED:20220510T114031Z
UID:654-1655278200-1655326800@www.ox14lp.org.uk
SUMMARY:Supporting our LGBTQ+ children - Parent webinar
DESCRIPTION:Parents and carers are welcome to attend this supportive webinar for parents and families on supporting our LGBTQ+ children and young people.National voluntary organisation and charity FFLAG are dedicated to supporting families and their LGBT+ loved ones. Sign up information will be sent from individual schools.
URL:https://www.ox14lp.org.uk/event/supporting-our-lgbtq-children-parent-webinar/
LOCATION:Online
END:VEVENT
BEGIN:VEVENT
DTSTART;TZID=UTC:20220616T143000
DTEND;TZID=UTC:20220616T170000
DTSTAMP:20260425T131828
CREATED:20220526T091640Z
LAST-MODIFIED:20220526T091807Z
UID:680-1655389800-1655398800@www.ox14lp.org.uk
SUMMARY:Holocaust Survivor Talk
DESCRIPTION:Abingdon School History Dept are hosting a Holocaust survivor talk in the Amey Theatre 16th June at 2.30. Teachers are welcome to bring a group of 5-6 students if this is of interest.
URL:https://www.ox14lp.org.uk/event/holocaust-survivor-talk/
LOCATION:Amey Theatre\, Abingdon School Park Road Abingdon OX14 1DE Email: ase.info@abingdon.org.uk
END:VEVENT
BEGIN:VEVENT
DTSTART;TZID=UTC:20220616T160500
DTEND;TZID=UTC:20220616T171000
DTSTAMP:20260425T131828
CREATED:20220523T093006Z
LAST-MODIFIED:20220523T094619Z
UID:661-1655395500-1655399400@www.ox14lp.org.uk
SUMMARY:Deserts\, dunes\, and dust: physical geography in the arid lands
DESCRIPTION:Please join us for a Geography talk by Professor Giles Wiggs. The talk on Deserts\, dunes\, and dust: physical geography in the arid lands\, is open to sixth form students. \nPlease sign up here.
URL:https://www.ox14lp.org.uk/event/deserts-dunes-and-dust-physical-geography-in-the-arid-lands/
LOCATION:St Helen and St Katharine’s\, St Helen and St Katharine Faringdon Road Abingdon Oxfordshire OX14 1BE\, OX14 1BE\, United Kingdom
END:VEVENT
BEGIN:VEVENT
DTSTART;TZID=Europe/London:20220617T194500
DTEND;TZID=Europe/London:20220617T213000
DTSTAMP:20260425T131828
CREATED:20211102T133856Z
LAST-MODIFIED:20220607T072232Z
UID:253-1655495100-1655501400@www.ox14lp.org.uk
SUMMARY:Drama Production 'Dissolve' -POSTPONED\, date TBC
DESCRIPTION:Live performance by multi-media theatre company\, Awkward City\, coming to Radley College.\n\n\n\nAwkward City are bringing their production\, Dissolve\, to Radley College’s theatre on June 17th\, 7.45pm.\n\nThis multi-media production was inspired by several true accounts of memory loss.\n\n“Dissolve uses live cinema and theatre to explore real stories of memory loss. The play takes the audience on a journey of witnessing what it is to suddenly forget who you are. Performers construct and deconstruct images which are filmed\, edited and projected in real time around the central character\, Olivia.”\n\n\n\n\n“…stunningly impressive… beautifully imaginative” A Younger Theatre\n\nTeachers please sign up here to get free tickets for a group of students.
URL:https://www.ox14lp.org.uk/event/drama-production-dissolve/
LOCATION:Radley College\, OX14 2HR
END:VEVENT
BEGIN:VEVENT
DTSTART;TZID=UTC:20220621T160000
DTEND;TZID=UTC:20220621T170000
DTSTAMP:20260425T131828
CREATED:20220621T084810Z
LAST-MODIFIED:20220621T085048Z
UID:690-1655827200-1655830800@www.ox14lp.org.uk
SUMMARY:OX14 LP Student Forum
DESCRIPTION:A chance for students from across all partner schools to meet and collaborate on partnership projects.
URL:https://www.ox14lp.org.uk/event/ox14-lp-student-forum/
END:VEVENT
BEGIN:VEVENT
DTSTART;TZID=UTC:20220623T093000
DTEND;TZID=UTC:20220623T230000
DTSTAMP:20260425T131828
CREATED:20220525T130151Z
LAST-MODIFIED:20220617T074633Z
UID:675-1655976600-1656025200@www.ox14lp.org.uk
SUMMARY:Lower Carbon Futures Challenge -Postponed\, date TBC
DESCRIPTION:We would like to invite Year 10 students from across the partnership to take part in the first ‘Lower Carbon Futures Challenge’ in collaboration with Energy Superhub Oxford. Students will work together on a challenge based on decarbonisation and reaching net zero targets. They will have the opportunity to work with guest experts and present their ideas. Teachers\, please email jessica.burns@abingdon.org.uk to register a group of 6 – 10 Year 10 students with an interest in the subject. \n 
URL:https://www.ox14lp.org.uk/event/lower-carbon-futures-challenge/
LOCATION:Abingdon School
END:VEVENT
BEGIN:VEVENT
DTSTART;TZID=UTC:20220626T080000
DTEND;TZID=UTC:20220630T170000
DTSTAMP:20260425T131828
CREATED:20220427T100008Z
LAST-MODIFIED:20220427T100008Z
UID:638-1656230400-1656608400@www.ox14lp.org.uk
SUMMARY:175 Festival - Join Radley College in celebrating their 175th Birthday!
DESCRIPTION:2022 marks 175 years since the founding of Radley College. We plan to celebrate our birthday with Festival 175 and hope that many of our local partners from schools and organisations will be able to join us.\n\n\nDuring the week of June 26th – 30th\, we will welcome celebrities\, academics\, musicians\, podcasters\, and entertainers to our Festival Stage on Mansion Lawn. Highlights include: \n\nPicnic in the Park with Mary Berry\nBBC Big Band and Claire Martin OBE\nJamie Laing\nThe Good\, The Bad & The Rugby (Mike Tindall\, James Haskell and Alex Payne)\nArchie Manners\nSir Charles Burrell (Knepp Estate)\nSir Anthony Seldon\nGina Miller\nKabantu\nSir Nigel Shadbolt\nProfessor Frank Close OBE\n… and many more!\n\nAll events are free and open to all\, but we ask that you book tickets so we can track numbers. The brochure is available here\, and the full list of booking links can be found here. \nWe very much hope you will join us. If you have any questions\, please contact Ben Weston-Conway (BJGW.Weston-Conway@radley.org.uk) \n—
URL:https://www.ox14lp.org.uk/event/175-festival-join-radley-college-in-celebrating-their-175th-birthday/
LOCATION:Radley College\, OX14 2HR
END:VEVENT
BEGIN:VEVENT
DTSTART;TZID=UTC:20220628T123000
DTEND;TZID=UTC:20220628T150000
DTSTAMP:20260425T131828
CREATED:20220517T075337Z
LAST-MODIFIED:20220517T081024Z
UID:658-1656419400-1656428400@www.ox14lp.org.uk
SUMMARY:Year 10 Chemistry Competition
DESCRIPTION:Teams are invited to join the first OX14 LP Chemistry Competition at the Yang Science Centre. Speak to your Chemistry teacher about this event\, invite only. \n 
URL:https://www.ox14lp.org.uk/event/year-10-chemistry-competition/
LOCATION:Abingdon School
END:VEVENT
END:VCALENDAR