BEGIN:VCALENDAR
VERSION:2.0
PRODID:-//OX14 Learning Partnership - ECPv6.15.20//NONSGML v1.0//EN
CALSCALE:GREGORIAN
METHOD:PUBLISH
X-ORIGINAL-URL:https://www.ox14lp.org.uk
X-WR-CALDESC:Events for OX14 Learning Partnership
REFRESH-INTERVAL;VALUE=DURATION:PT1H
X-Robots-Tag:noindex
X-PUBLISHED-TTL:PT1H
BEGIN:VTIMEZONE
TZID:UTC
BEGIN:STANDARD
TZOFFSETFROM:+0000
TZOFFSETTO:+0000
TZNAME:UTC
DTSTART:20210101T000000
END:STANDARD
END:VTIMEZONE
BEGIN:VEVENT
DTSTART;TZID=UTC:20220425T203000
DTEND;TZID=UTC:20220425T220000
DTSTAMP:20260425T161753
CREATED:20220329T092303Z
LAST-MODIFIED:20220329T095132Z
UID:618-1650918600-1650924000@www.ox14lp.org.uk
SUMMARY:Maths Talk with Professor Robin Wilson
DESCRIPTION:The History and solution of the four colour problem: Join Radley college Maths Society students to answer the question: Can every map be coloured with just 4 colours so that neighbouring countries are coloured different? Please email jessica.burns@abingdon.org.uk to attend 
URL:https://www.ox14lp.org.uk/event/maths-talk-with-professor-robin-wilson/
LOCATION:Radley College\, OX14 2HR
END:VEVENT
BEGIN:VEVENT
DTSTART;TZID=UTC:20220426T123000
DTEND;TZID=UTC:20220426T140000
DTSTAMP:20260425T161753
CREATED:20220310T142052Z
LAST-MODIFIED:20220314T111022Z
UID:602-1650976200-1650981600@www.ox14lp.org.uk
SUMMARY:US Universities Fair
DESCRIPTION:David Hawkins from The University Guys is bringing representatives from US universities to SHSK for a mini-US university fair between 12.30pm and 2pm. Sign up for sixth form students here. 
URL:https://www.ox14lp.org.uk/event/us-universities-fair/
LOCATION:St Helen and St Katharine’s\, St Helen and St Katharine Faringdon Road Abingdon Oxfordshire OX14 1BE\, OX14 1BE\, United Kingdom
END:VEVENT
BEGIN:VEVENT
DTSTART;TZID=UTC:20220428T160000
DTEND;TZID=UTC:20220428T170000
DTSTAMP:20260425T161753
CREATED:20220329T122805Z
LAST-MODIFIED:20220329T131708Z
UID:630-1651161600-1651165200@www.ox14lp.org.uk
SUMMARY:Peer Support Lead Talk - Peer support in the workplace
DESCRIPTION:  \nAll existing Peer Support Lead Students are invited to attend a talk with Pete from Kura human factors about Peer Support in the workplace. This is only open to existing Y13 Peer support leads.
URL:https://www.ox14lp.org.uk/event/peer-support-lead-talk-peer-support-in-the-workplace/
LOCATION:Abingdon School
END:VEVENT
END:VCALENDAR