BEGIN:VCALENDAR
VERSION:2.0
PRODID:-//OX14 Learning Partnership - ECPv6.15.20//NONSGML v1.0//EN
CALSCALE:GREGORIAN
METHOD:PUBLISH
X-ORIGINAL-URL:https://www.ox14lp.org.uk
X-WR-CALDESC:Events for OX14 Learning Partnership
REFRESH-INTERVAL;VALUE=DURATION:PT1H
X-Robots-Tag:noindex
X-PUBLISHED-TTL:PT1H
BEGIN:VTIMEZONE
TZID:Europe/London
BEGIN:DAYLIGHT
TZOFFSETFROM:+0000
TZOFFSETTO:+0100
TZNAME:BST
DTSTART:20210328T010000
END:DAYLIGHT
BEGIN:STANDARD
TZOFFSETFROM:+0100
TZOFFSETTO:+0000
TZNAME:GMT
DTSTART:20211031T010000
END:STANDARD
BEGIN:DAYLIGHT
TZOFFSETFROM:+0000
TZOFFSETTO:+0100
TZNAME:BST
DTSTART:20220327T010000
END:DAYLIGHT
BEGIN:STANDARD
TZOFFSETFROM:+0100
TZOFFSETTO:+0000
TZNAME:GMT
DTSTART:20221030T010000
END:STANDARD
BEGIN:DAYLIGHT
TZOFFSETFROM:+0000
TZOFFSETTO:+0100
TZNAME:BST
DTSTART:20230326T010000
END:DAYLIGHT
BEGIN:STANDARD
TZOFFSETFROM:+0100
TZOFFSETTO:+0000
TZNAME:GMT
DTSTART:20231029T010000
END:STANDARD
END:VTIMEZONE
BEGIN:VEVENT
DTSTART;TZID=Europe/London:20220110T153000
DTEND;TZID=Europe/London:20220110T170000
DTSTAMP:20260425T200710
CREATED:20211213T110654Z
LAST-MODIFIED:20211213T110657Z
UID:432-1641828600-1641834000@www.ox14lp.org.uk
SUMMARY:Operations Group Meeting
DESCRIPTION:Online – for Partnership Champions in each school
URL:https://www.ox14lp.org.uk/event/operations-group-meeting-2/
LOCATION:Online
END:VEVENT
BEGIN:VEVENT
DTSTART;TZID=Europe/London:20220110T170000
DTEND;TZID=Europe/London:20220110T190000
DTSTAMP:20260425T200710
CREATED:20211129T092850Z
LAST-MODIFIED:20211129T092853Z
UID:419-1641834000-1641841200@www.ox14lp.org.uk
SUMMARY:COP26 - Reflections and future careers for Earth Scientists
DESCRIPTION:Monday 10th January 5pm  Science Lecture Theatre\, Radley\nCOP26 – Reflections and future careers for Earth Scientists\nwith Professor Dave Waltham\, Royal Holloway College\, University of London\n\nPlease complete this FORM to register.
URL:https://www.ox14lp.org.uk/event/cop26-reflections-and-future-careers-for-earth-scientists/
LOCATION:Radley College\, OX14 2HR
END:VEVENT
BEGIN:VEVENT
DTSTART;TZID=Europe/London:20220111T153000
DTEND;TZID=Europe/London:20220111T170000
DTSTAMP:20260425T200710
CREATED:20220106T092318Z
LAST-MODIFIED:20220106T092333Z
UID:441-1641915000-1641920400@www.ox14lp.org.uk
SUMMARY:Professor Steven Gunn\, University of Oxford - online lecture 3.45pm
DESCRIPTION:Come and join the discussion – ‘Did Henry VII establish a “New” Monarchy which Henry VIII destroyed?’ Open to Sixth form students in our partner schools. Please sign up here to join online.
URL:https://www.ox14lp.org.uk/event/professor-steven-gunn-university-of-oxford-online-lecture-3-45pm/
LOCATION:Online
END:VEVENT
BEGIN:VEVENT
DTSTART;TZID=Europe/London:20220118T173000
DTEND;TZID=Europe/London:20220118T190000
DTSTAMP:20260425T200710
CREATED:20211020T104413Z
LAST-MODIFIED:20220112T122755Z
UID:236-1642527000-1642532400@www.ox14lp.org.uk
SUMMARY:Lecture: 'Green Ammonia: Towards the future of Carbon-free Transport' - Dr Simson Wu
DESCRIPTION:Tuesday 18 January 2022\, 5.45pm\, Radley College\, Science Lecture Theatre\, Dr Simson Wu\, Oxford Green Innotech\, “Green Ammonia: Towards the future of Carbon-free Transport” Please sign up here.
URL:https://www.ox14lp.org.uk/event/lecture-green-ammonia-towards-the-future-of-carbon-free-transport-dr-simson-wu/
LOCATION:Radley College\, OX14 2HR
END:VEVENT
BEGIN:VEVENT
DTSTART;TZID=Europe/London:20220119T160000
DTEND;TZID=Europe/London:20220119T170000
DTSTAMP:20260425T200710
CREATED:20211207T092543Z
LAST-MODIFIED:20211207T092547Z
UID:422-1642608000-1642611600@www.ox14lp.org.uk
SUMMARY:Social Media Webinar
DESCRIPTION:Webinar on trolling & online hate on Wednesday 19th January 2022\, 4.00pm-5.00pm.  This is being run by TVLP by a speaker that advises the UK and US governments on digital hate; Imran Ahmed\, CEO of the Center for Countering Digital Hate (a US NGO)\, and trustee of Victim Support (a UK charity).\n\nThis will be an online session and is open to all students in OX14 LP Schools. Please sign up here.
URL:https://www.ox14lp.org.uk/event/social-media-webinar/
LOCATION:Online
END:VEVENT
BEGIN:VEVENT
DTSTART;TZID=Europe/London:20220120T183000
DTEND;TZID=Europe/London:20220120T200000
DTSTAMP:20260425T200710
CREATED:20211210T095336Z
LAST-MODIFIED:20211210T095342Z
UID:429-1642703400-1642708800@www.ox14lp.org.uk
SUMMARY:Gap Year Webinar
DESCRIPTION:Abingdon and St Helen and St Katharine are again co-hosting the annual Gap Year Advice Webinar\, Thursday\, 20 January 2022\, 6:30-8:00pm on Zoom. Students (and their parents) from Larkmead\, Fitzharrys\, John Mason\, and Radley are all invited to attend. The webinar starts with a brief presentation on electing\, planning\, and then managing a Gap Year. This is followed by a further presentation from Independent Gap Advice on travel abroad during a Gap Year. Then\, a panel of school leavers who took a Gap Year will share their individual circumstances and stories of what they did. This will be followed by a Q&A session for any of the speakers or panellists. \nStudents and/or parents must register in advance for the webinar: \nhttps://abingdon.zoom.us/meeting/register/tJYkde2orj0iGd3FvCTcUqlFQy0aqovhafUS
URL:https://www.ox14lp.org.uk/event/gap-year-webinar/
LOCATION:Online
END:VEVENT
BEGIN:VEVENT
DTSTART;TZID=Europe/London:20220125T160000
DTEND;TZID=Europe/London:20220125T170000
DTSTAMP:20260425T200710
CREATED:20211210T090538Z
LAST-MODIFIED:20211210T095216Z
UID:426-1643126400-1643130000@www.ox14lp.org.uk
SUMMARY:Student Voice committee meeting
DESCRIPTION:Student Voice committee members only
URL:https://www.ox14lp.org.uk/event/student-voice-committee-meeting-3/
LOCATION:Abingdon School
END:VEVENT
BEGIN:VEVENT
DTSTART;TZID=Europe/London:20220127T160000
DTEND;TZID=Europe/London:20220127T180000
DTSTAMP:20260425T200710
CREATED:20220127T131249Z
LAST-MODIFIED:20220127T131255Z
UID:509-1643299200-1643306400@www.ox14lp.org.uk
SUMMARY:Academic Coaching training Sessions
DESCRIPTION:Academic Coaches have been recruited in all schools\, this is the first training session on the programme. Students taking part have been emailed the links. \n 
URL:https://www.ox14lp.org.uk/event/academic-coaching-training-sessions/
LOCATION:Online
END:VEVENT
BEGIN:VEVENT
DTSTART;TZID=Europe/London:20220128T160000
DTEND;TZID=Europe/London:20220128T170000
DTSTAMP:20260425T200710
CREATED:20220118T101250Z
LAST-MODIFIED:20220119T143602Z
UID:492-1643385600-1643389200@www.ox14lp.org.uk
SUMMARY:Careers in Marketing Y10-13 students
DESCRIPTION:Learn about the diverse and dynamic field of marketing. Marketers are involved in product development\, product distribution\, market re- search\, pricing and promotion\, brand management\, advertising\, public relations\, media relations\, digital communications\, sponsorship\, sales\, and customer service. Marketers work in every sector of the economy and are central to the success of every organisation. Teachers please email jessica.burns@abingdon.org.uk to arrange a group booking \nHosted by the Abingdon School Career Guidance Office
URL:https://www.ox14lp.org.uk/event/careers-in-marketing/
LOCATION:Abingdon School
END:VEVENT
BEGIN:VEVENT
DTSTART;TZID=Europe/London:20220131T193000
DTEND;TZID=Europe/London:20220131T210000
DTSTAMP:20260425T200710
CREATED:20211102T133711Z
LAST-MODIFIED:20220112T124358Z
UID:251-1643657400-1643662800@www.ox14lp.org.uk
SUMMARY:Drama Production with the Paper Birds Theatre Company 'Broke'
DESCRIPTION:Professional theatre company\, The Paper Birds\, are bringing their production\, Broke\, to Radley College Theatre. The production is on Monday 31st Jan\, 7.45pm start. \n\n\n‘The Paper Birds are expert theatre-makers. They have their own trademarks\, unearthing women’s stories on hard-hitting themes through verbatim material and subtle movement.’ (Total Theatre) \n\nThe production begins at 7.45pm on Monday 31st January. There is also an optional short Q&A after the show which you are welcome to stay for.\n\nAn opportunity for those studying English or Drama at A Level \nPlease sign up here to register
URL:https://www.ox14lp.org.uk/event/drama-workshop-and-production-with-the-paper-birds-theatre-company/
LOCATION:Radley College\, OX14 2HR
END:VEVENT
END:VCALENDAR