BEGIN:VCALENDAR
VERSION:2.0
PRODID:-//OX14 Learning Partnership - ECPv6.15.20//NONSGML v1.0//EN
CALSCALE:GREGORIAN
METHOD:PUBLISH
X-ORIGINAL-URL:https://www.ox14lp.org.uk
X-WR-CALDESC:Events for OX14 Learning Partnership
REFRESH-INTERVAL;VALUE=DURATION:PT1H
X-Robots-Tag:noindex
X-PUBLISHED-TTL:PT1H
BEGIN:VTIMEZONE
TZID:Europe/London
BEGIN:DAYLIGHT
TZOFFSETFROM:+0000
TZOFFSETTO:+0100
TZNAME:BST
DTSTART:20230326T010000
END:DAYLIGHT
BEGIN:STANDARD
TZOFFSETFROM:+0100
TZOFFSETTO:+0000
TZNAME:GMT
DTSTART:20231029T010000
END:STANDARD
BEGIN:DAYLIGHT
TZOFFSETFROM:+0000
TZOFFSETTO:+0100
TZNAME:BST
DTSTART:20240331T010000
END:DAYLIGHT
BEGIN:STANDARD
TZOFFSETFROM:+0100
TZOFFSETTO:+0000
TZNAME:GMT
DTSTART:20241027T010000
END:STANDARD
BEGIN:DAYLIGHT
TZOFFSETFROM:+0000
TZOFFSETTO:+0100
TZNAME:BST
DTSTART:20250330T010000
END:DAYLIGHT
BEGIN:STANDARD
TZOFFSETFROM:+0100
TZOFFSETTO:+0000
TZNAME:GMT
DTSTART:20251026T010000
END:STANDARD
END:VTIMEZONE
BEGIN:VEVENT
DTSTART;TZID=Europe/London:20240423T160000
DTEND;TZID=Europe/London:20240423T170000
DTSTAMP:20260424T080641
CREATED:20240304T130551Z
LAST-MODIFIED:20240304T132740Z
UID:1258-1713888000-1713891600@www.ox14lp.org.uk
SUMMARY:Peer Support in the workplace
DESCRIPTION:Existing PSLs are invited to attend a session on Peer support in the workplace. Peter Whitten  will give a unique perspective of how peer support is becoming increasingly relevant in a commercial setting.  The session will be held at Abingdon School on 23rd April\, 4-5pm and all existing PSLs are welcome to attend.
URL:https://www.ox14lp.org.uk/event/peer-support-in-the-workplace/
LOCATION:Abingdon School
END:VEVENT
BEGIN:VEVENT
DTSTART;TZID=Europe/London:20240423T160000
DTEND;TZID=Europe/London:20240423T180000
DTSTAMP:20260424T080641
CREATED:20240227T103909Z
LAST-MODIFIED:20240228T142043Z
UID:1253-1713888000-1713895200@www.ox14lp.org.uk
SUMMARY:Futures Fair
DESCRIPTION:Futures Fair \nTuesday 23 April\, 4pm to 6pm \nPavilion at Amey Theatre\, Abingdon School (entry from Park Road OX14 1DE) \nAfter last year’s success\, the Abingdon Futures Fair is back again with an impressive range of UK universities. Aimed at current Year 12s and open to all local students in Years 11 to 13 (and their parents)\, come along and speak to university representatives about their courses\, admissions and student experience to inform your choices on what to do next. \nWho should come? \n\n\nYear 13s who are undecided about university study or starting careers; \n\n\nYear 12s who are exploring universities and courses; \n\n\nYear 11s who are looking for inspiration and guidance; \n\n\nParents and guardians of students aged 16 to 18. \n\n\nFree entry and open to students from all local schools. Please note there is no onsite parking for this event. \nBook your place here
URL:https://www.ox14lp.org.uk/event/futures-fair/
LOCATION:Abingdon School
END:VEVENT
END:VCALENDAR