BEGIN:VCALENDAR
VERSION:2.0
PRODID:-//OX14 Learning Partnership - ECPv6.15.20//NONSGML v1.0//EN
CALSCALE:GREGORIAN
METHOD:PUBLISH
X-WR-CALNAME:OX14 Learning Partnership
X-ORIGINAL-URL:https://www.ox14lp.org.uk
X-WR-CALDESC:Events for OX14 Learning Partnership
REFRESH-INTERVAL;VALUE=DURATION:PT1H
X-Robots-Tag:noindex
X-PUBLISHED-TTL:PT1H
BEGIN:VTIMEZONE
TZID:Europe/London
BEGIN:DAYLIGHT
TZOFFSETFROM:+0000
TZOFFSETTO:+0100
TZNAME:BST
DTSTART:20230326T010000
END:DAYLIGHT
BEGIN:STANDARD
TZOFFSETFROM:+0100
TZOFFSETTO:+0000
TZNAME:GMT
DTSTART:20231029T010000
END:STANDARD
BEGIN:DAYLIGHT
TZOFFSETFROM:+0000
TZOFFSETTO:+0100
TZNAME:BST
DTSTART:20240331T010000
END:DAYLIGHT
BEGIN:STANDARD
TZOFFSETFROM:+0100
TZOFFSETTO:+0000
TZNAME:GMT
DTSTART:20241027T010000
END:STANDARD
BEGIN:DAYLIGHT
TZOFFSETFROM:+0000
TZOFFSETTO:+0100
TZNAME:BST
DTSTART:20250330T010000
END:DAYLIGHT
BEGIN:STANDARD
TZOFFSETFROM:+0100
TZOFFSETTO:+0000
TZNAME:GMT
DTSTART:20251026T010000
END:STANDARD
END:VTIMEZONE
BEGIN:VEVENT
DTSTART;TZID=Europe/London:20240418T193000
DTEND;TZID=Europe/London:20240418T203000
DTSTAMP:20260424T080540
CREATED:20240311T143430Z
LAST-MODIFIED:20240311T143508Z
UID:1263-1713468600-1713472200@www.ox14lp.org.uk
SUMMARY:Keeping Safe at Parties - Parent webinar
DESCRIPTION:We are hosting a parent webinar for OX14 with It Happens Education: Keeping Safe at Parties\, on Thursday 18 April from 7:30pm. This webinar will give practical advice on managing house parties\, peer behaviours\, alcohol & vaping\, cannabis & synthetic cannabinoids\, spiking\, consent & boundaries and how to approach these conversations at home.\nPlease sign up here:\nhttps://docs.google.com/forms/d/e/1FAIpQLScODJVPJG1yHUnGkycjrf8_eUcxDUjG2Y3L4f1YgVwGC-yKJA/viewform?usp=sf_link
URL:https://www.ox14lp.org.uk/event/keeping-safe-at-parties-parent-webinar/
LOCATION:Online
END:VEVENT
END:VCALENDAR