BEGIN:VCALENDAR
VERSION:2.0
PRODID:-//OX14 Learning Partnership - ECPv6.15.20//NONSGML v1.0//EN
CALSCALE:GREGORIAN
METHOD:PUBLISH
X-WR-CALNAME:OX14 Learning Partnership
X-ORIGINAL-URL:https://www.ox14lp.org.uk
X-WR-CALDESC:Events for OX14 Learning Partnership
REFRESH-INTERVAL;VALUE=DURATION:PT1H
X-Robots-Tag:noindex
X-PUBLISHED-TTL:PT1H
BEGIN:VTIMEZONE
TZID:Europe/London
BEGIN:DAYLIGHT
TZOFFSETFROM:+0000
TZOFFSETTO:+0100
TZNAME:BST
DTSTART:20230326T010000
END:DAYLIGHT
BEGIN:STANDARD
TZOFFSETFROM:+0100
TZOFFSETTO:+0000
TZNAME:GMT
DTSTART:20231029T010000
END:STANDARD
BEGIN:DAYLIGHT
TZOFFSETFROM:+0000
TZOFFSETTO:+0100
TZNAME:BST
DTSTART:20240331T010000
END:DAYLIGHT
BEGIN:STANDARD
TZOFFSETFROM:+0100
TZOFFSETTO:+0000
TZNAME:GMT
DTSTART:20241027T010000
END:STANDARD
BEGIN:DAYLIGHT
TZOFFSETFROM:+0000
TZOFFSETTO:+0100
TZNAME:BST
DTSTART:20250330T010000
END:DAYLIGHT
BEGIN:STANDARD
TZOFFSETFROM:+0100
TZOFFSETTO:+0000
TZNAME:GMT
DTSTART:20251026T010000
END:STANDARD
END:VTIMEZONE
BEGIN:VEVENT
DTSTART;TZID=Europe/London:20240305T090000
DTEND;TZID=Europe/London:20240305T160000
DTSTAMP:20260424T093002
CREATED:20240110T112728Z
LAST-MODIFIED:20240110T113758Z
UID:1217-1709629200-1709654400@www.ox14lp.org.uk
SUMMARY:This isn't going to hurt -Y12 Medics Day
DESCRIPTION:This is an invite only event for aspiring medics across our schools. 
URL:https://www.ox14lp.org.uk/event/this-isnt-going-to-hurt-y12-medics-day/
LOCATION:Radley College\, OX14 2HR
END:VEVENT
BEGIN:VEVENT
DTSTART;TZID=Europe/London:20240305T160000
DTEND;TZID=Europe/London:20240305T170000
DTSTAMP:20260424T093002
CREATED:20231204T113854Z
LAST-MODIFIED:20231204T113856Z
UID:1170-1709654400-1709658000@www.ox14lp.org.uk
SUMMARY:Academic Coaching Session 4
DESCRIPTION:Students who are part of this programme will work in coaching pairs/ groups to support individual goals and targets.
URL:https://www.ox14lp.org.uk/event/academic-coaching-session-4/
LOCATION:Abingdon School
END:VEVENT
BEGIN:VEVENT
DTSTART;TZID=Europe/London:20240305T173000
DTEND;TZID=Europe/London:20240305T183000
DTSTAMP:20260424T093002
CREATED:20231127T102104Z
LAST-MODIFIED:20231128T090214Z
UID:1151-1709659800-1709663400@www.ox14lp.org.uk
SUMMARY:Astronomy and Computing in Ancient Greece - the Story of the Amazing Antikythera Mechanism Mike Edmunds - President of the Royal Astronomical Society
DESCRIPTION:Save the date\, students are invited to attend this guest speaker event. Open to those with an interest in Astronomy. Please email ox14lp@abingdon.org.uk to register your interest.
URL:https://www.ox14lp.org.uk/event/professor-mike-edmunds-president-of-the-royal-astronomical-society/
LOCATION:Abingdon School
END:VEVENT
END:VCALENDAR