BEGIN:VCALENDAR
VERSION:2.0
PRODID:-//OX14 Learning Partnership - ECPv6.15.20//NONSGML v1.0//EN
CALSCALE:GREGORIAN
METHOD:PUBLISH
X-WR-CALNAME:OX14 Learning Partnership
X-ORIGINAL-URL:https://www.ox14lp.org.uk
X-WR-CALDESC:Events for OX14 Learning Partnership
REFRESH-INTERVAL;VALUE=DURATION:PT1H
X-Robots-Tag:noindex
X-PUBLISHED-TTL:PT1H
BEGIN:VTIMEZONE
TZID:Europe/London
BEGIN:DAYLIGHT
TZOFFSETFROM:+0000
TZOFFSETTO:+0100
TZNAME:BST
DTSTART:20220327T010000
END:DAYLIGHT
BEGIN:STANDARD
TZOFFSETFROM:+0100
TZOFFSETTO:+0000
TZNAME:GMT
DTSTART:20221030T010000
END:STANDARD
BEGIN:DAYLIGHT
TZOFFSETFROM:+0000
TZOFFSETTO:+0100
TZNAME:BST
DTSTART:20230326T010000
END:DAYLIGHT
BEGIN:STANDARD
TZOFFSETFROM:+0100
TZOFFSETTO:+0000
TZNAME:GMT
DTSTART:20231029T010000
END:STANDARD
BEGIN:DAYLIGHT
TZOFFSETFROM:+0000
TZOFFSETTO:+0100
TZNAME:BST
DTSTART:20240331T010000
END:DAYLIGHT
BEGIN:STANDARD
TZOFFSETFROM:+0100
TZOFFSETTO:+0000
TZNAME:GMT
DTSTART:20241027T010000
END:STANDARD
END:VTIMEZONE
BEGIN:VEVENT
DTSTART;TZID=Europe/London:20231124T193000
DTEND;TZID=Europe/London:20231124T203000
DTSTAMP:20260424T151339
CREATED:20230707T094122Z
LAST-MODIFIED:20230711T110833Z
UID:1067-1700854200-1700857800@www.ox14lp.org.uk
SUMMARY:History lecture - 'Hitler'
DESCRIPTION:Adolf Hitler is one of the most studied men in history\, and yet the most important things we think we know about him are wrong.  Simms demonstrates that Hitler’s main preoccupation was not\, as widely believed\, the threat of Bolshevism\, but that of international capitalism and Anglo-America. These two fears drove both his antisemitism and his determination to secure the ‘living space’ necessary to survive in a world dominated by the British Empire and the United States. \nSixth form students are invited to attend this History Lecture with Prof Brendan Simms\, Cambridge. \nPlease email ox14lp@abingdon.org.uk to register.
URL:https://www.ox14lp.org.uk/event/history-lecture-hitler/
LOCATION:Radley College\, OX14 2HR
END:VEVENT
BEGIN:VEVENT
DTSTART;TZID=Europe/London:20231124T193000
DTEND;TZID=Europe/London:20231124T203000
DTSTAMP:20260424T151339
CREATED:20230913T114754Z
LAST-MODIFIED:20230913T114758Z
UID:1100-1700854200-1700857800@www.ox14lp.org.uk
SUMMARY:History Society: Professor Brendan Simms\, University of Cambridge
DESCRIPTION:Students in Year 11 and above at partner schools are invited to attend this lecture at Radley College. \nPlease email ox14lp@abingdon.org.uk to register.
URL:https://www.ox14lp.org.uk/event/history-society-professor-brendan-simms-university-of-cambridge/
LOCATION:Radley College\, OX14 2HR
END:VEVENT
END:VCALENDAR