BEGIN:VCALENDAR
VERSION:2.0
PRODID:-//OX14 Learning Partnership - ECPv6.15.20//NONSGML v1.0//EN
CALSCALE:GREGORIAN
METHOD:PUBLISH
X-WR-CALNAME:OX14 Learning Partnership
X-ORIGINAL-URL:https://www.ox14lp.org.uk
X-WR-CALDESC:Events for OX14 Learning Partnership
REFRESH-INTERVAL;VALUE=DURATION:PT1H
X-Robots-Tag:noindex
X-PUBLISHED-TTL:PT1H
BEGIN:VTIMEZONE
TZID:Europe/London
BEGIN:DAYLIGHT
TZOFFSETFROM:+0000
TZOFFSETTO:+0100
TZNAME:BST
DTSTART:20220327T010000
END:DAYLIGHT
BEGIN:STANDARD
TZOFFSETFROM:+0100
TZOFFSETTO:+0000
TZNAME:GMT
DTSTART:20221030T010000
END:STANDARD
BEGIN:DAYLIGHT
TZOFFSETFROM:+0000
TZOFFSETTO:+0100
TZNAME:BST
DTSTART:20230326T010000
END:DAYLIGHT
BEGIN:STANDARD
TZOFFSETFROM:+0100
TZOFFSETTO:+0000
TZNAME:GMT
DTSTART:20231029T010000
END:STANDARD
BEGIN:DAYLIGHT
TZOFFSETFROM:+0000
TZOFFSETTO:+0100
TZNAME:BST
DTSTART:20240331T010000
END:DAYLIGHT
BEGIN:STANDARD
TZOFFSETFROM:+0100
TZOFFSETTO:+0000
TZNAME:GMT
DTSTART:20241027T010000
END:STANDARD
END:VTIMEZONE
BEGIN:VEVENT
DTSTART;TZID=Europe/London:20231109T093000
DTEND;TZID=Europe/London:20231109T153000
DTSTAMP:20260424T151337
CREATED:20230607T131204Z
LAST-MODIFIED:20230920T131254Z
UID:1017-1699522200-1699543800@www.ox14lp.org.uk
SUMMARY:Business Language Challenge
DESCRIPTION:Business Language Challenge (3)Students are invited to join peers from across the town in this day long business challenge with a twist. Students will work in groups to market and sell a product using their chosen language. Open to students in Y10/11 who are studying German\, French or Spanish. Teachers please sign up here to bring a group.
URL:https://www.ox14lp.org.uk/event/business-language-challenge-2/
LOCATION:Abingdon School
END:VEVENT
BEGIN:VEVENT
DTSTART;TZID=Europe/London:20231109T160000
DTEND;TZID=Europe/London:20231109T170000
DTSTAMP:20260424T151337
CREATED:20230516T095107Z
LAST-MODIFIED:20231030T134314Z
UID:983-1699545600-1699549200@www.ox14lp.org.uk
SUMMARY:Peer Support Lead Training - Abingdon School
DESCRIPTION:Peer Support Lead students are invited to attend this training session.
URL:https://www.ox14lp.org.uk/event/peer-support-lead-training-location-tbc/
END:VEVENT
END:VCALENDAR