BEGIN:VCALENDAR
VERSION:2.0
PRODID:-//OX14 Learning Partnership - ECPv6.15.20//NONSGML v1.0//EN
CALSCALE:GREGORIAN
METHOD:PUBLISH
X-WR-CALNAME:OX14 Learning Partnership
X-ORIGINAL-URL:https://www.ox14lp.org.uk
X-WR-CALDESC:Events for OX14 Learning Partnership
REFRESH-INTERVAL;VALUE=DURATION:PT1H
X-Robots-Tag:noindex
X-PUBLISHED-TTL:PT1H
BEGIN:VTIMEZONE
TZID:Europe/London
BEGIN:DAYLIGHT
TZOFFSETFROM:+0000
TZOFFSETTO:+0100
TZNAME:BST
DTSTART:20220327T010000
END:DAYLIGHT
BEGIN:STANDARD
TZOFFSETFROM:+0100
TZOFFSETTO:+0000
TZNAME:GMT
DTSTART:20221030T010000
END:STANDARD
BEGIN:DAYLIGHT
TZOFFSETFROM:+0000
TZOFFSETTO:+0100
TZNAME:BST
DTSTART:20230326T010000
END:DAYLIGHT
BEGIN:STANDARD
TZOFFSETFROM:+0100
TZOFFSETTO:+0000
TZNAME:GMT
DTSTART:20231029T010000
END:STANDARD
BEGIN:DAYLIGHT
TZOFFSETFROM:+0000
TZOFFSETTO:+0100
TZNAME:BST
DTSTART:20240331T010000
END:DAYLIGHT
BEGIN:STANDARD
TZOFFSETFROM:+0100
TZOFFSETTO:+0000
TZNAME:GMT
DTSTART:20241027T010000
END:STANDARD
END:VTIMEZONE
BEGIN:VEVENT
DTSTART;TZID=Europe/London:20231012T190000
DTEND;TZID=Europe/London:20231012T200000
DTSTAMP:20260424T164942
CREATED:20230905T131254Z
LAST-MODIFIED:20230925T131430Z
UID:1081-1697137200-1697140800@www.ox14lp.org.uk
SUMMARY:Understanding the Teenage Brain - Year 7 Parent Webinar
DESCRIPTION:Parents of children in Year 7 across our partner schools are invited to attend a webinar on ‘Understanding the Teenage Brain. \nThis webinar from the OX14 Learning Partnership is for year 7 parents and families\, to understand more about the teenage brain and how we can support positive mental health in our young teenagers. Natalie Hunt (Mental Health & Wellbeing Coordinator for the OX14 Learning Partnership) will be joined by Louise Aukland\, researcher and author in brain science at the University of Oxford. They will discuss the transition to secondary school and how families can support their child’s brain development at this crucial time\, followed by a Q&A session.’ \nTo express an interest in attending\, please fill in this google form.
URL:https://www.ox14lp.org.uk/event/understanding-the-teenage-brain-year-7-parent-webinar/
LOCATION:Online
END:VEVENT
END:VCALENDAR