BEGIN:VCALENDAR
VERSION:2.0
PRODID:-//OX14 Learning Partnership - ECPv6.15.20//NONSGML v1.0//EN
CALSCALE:GREGORIAN
METHOD:PUBLISH
X-ORIGINAL-URL:https://www.ox14lp.org.uk
X-WR-CALDESC:Events for OX14 Learning Partnership
REFRESH-INTERVAL;VALUE=DURATION:PT1H
X-Robots-Tag:noindex
X-PUBLISHED-TTL:PT1H
BEGIN:VTIMEZONE
TZID:Europe/London
BEGIN:DAYLIGHT
TZOFFSETFROM:+0000
TZOFFSETTO:+0100
TZNAME:BST
DTSTART:20220327T010000
END:DAYLIGHT
BEGIN:STANDARD
TZOFFSETFROM:+0100
TZOFFSETTO:+0000
TZNAME:GMT
DTSTART:20221030T010000
END:STANDARD
BEGIN:DAYLIGHT
TZOFFSETFROM:+0000
TZOFFSETTO:+0100
TZNAME:BST
DTSTART:20230326T010000
END:DAYLIGHT
BEGIN:STANDARD
TZOFFSETFROM:+0100
TZOFFSETTO:+0000
TZNAME:GMT
DTSTART:20231029T010000
END:STANDARD
BEGIN:DAYLIGHT
TZOFFSETFROM:+0000
TZOFFSETTO:+0100
TZNAME:BST
DTSTART:20240331T010000
END:DAYLIGHT
BEGIN:STANDARD
TZOFFSETFROM:+0100
TZOFFSETTO:+0000
TZNAME:GMT
DTSTART:20241027T010000
END:STANDARD
END:VTIMEZONE
BEGIN:VEVENT
DTSTART;TZID=Europe/London:20230921T200000
DTEND;TZID=Europe/London:20230921T210000
DTSTAMP:20260424T181705
CREATED:20230913T115310Z
LAST-MODIFIED:20230913T115606Z
UID:1110-1695326400-1695330000@www.ox14lp.org.uk
SUMMARY:Moonaroon Concert
DESCRIPTION:As part of Music Flood Week\,  Moonaroon will be performing at Radley College. Founded in Oxford in the legendary Half Moon pub\, Moonaroon have been performing together since 2019\, bringing their own unique mix of folk music traditions to audiences around the UK. \nMoonaroon’s sound is a midpoint between between several traditional styles of music\, with their aim being to present music that is as much of a melting pot as the British Isles they come from. With a unique talent for arranging both songs and instrumental tunes\, Moonaroon aim to bring a new sound to music from hundreds of years ago\, adding new life into a revitalised folk tradition. \nTickets are free\, but need to be reserved via this link.
URL:https://www.ox14lp.org.uk/event/moonaroon-concert/
LOCATION:Radley College\, OX14 2HR
END:VEVENT
END:VCALENDAR