BEGIN:VCALENDAR
VERSION:2.0
PRODID:-//OX14 Learning Partnership - ECPv6.15.20//NONSGML v1.0//EN
CALSCALE:GREGORIAN
METHOD:PUBLISH
X-WR-CALNAME:OX14 Learning Partnership
X-ORIGINAL-URL:https://www.ox14lp.org.uk
X-WR-CALDESC:Events for OX14 Learning Partnership
REFRESH-INTERVAL;VALUE=DURATION:PT1H
X-Robots-Tag:noindex
X-PUBLISHED-TTL:PT1H
BEGIN:VTIMEZONE
TZID:Europe/London
BEGIN:DAYLIGHT
TZOFFSETFROM:+0000
TZOFFSETTO:+0100
TZNAME:BST
DTSTART:20220327T010000
END:DAYLIGHT
BEGIN:STANDARD
TZOFFSETFROM:+0100
TZOFFSETTO:+0000
TZNAME:GMT
DTSTART:20221030T010000
END:STANDARD
BEGIN:DAYLIGHT
TZOFFSETFROM:+0000
TZOFFSETTO:+0100
TZNAME:BST
DTSTART:20230326T010000
END:DAYLIGHT
BEGIN:STANDARD
TZOFFSETFROM:+0100
TZOFFSETTO:+0000
TZNAME:GMT
DTSTART:20231029T010000
END:STANDARD
BEGIN:DAYLIGHT
TZOFFSETFROM:+0000
TZOFFSETTO:+0100
TZNAME:BST
DTSTART:20240331T010000
END:DAYLIGHT
BEGIN:STANDARD
TZOFFSETFROM:+0100
TZOFFSETTO:+0000
TZNAME:GMT
DTSTART:20241027T010000
END:STANDARD
END:VTIMEZONE
BEGIN:VEVENT
DTSTART;TZID=Europe/London:20230918T170000
DTEND;TZID=Europe/London:20230918T180000
DTSTAMP:20260424T180409
CREATED:20230913T105256Z
LAST-MODIFIED:20230913T105258Z
UID:1092-1695056400-1695060000@www.ox14lp.org.uk
SUMMARY:Tomiwa Owolade - This is Not America: Rethinking Race and Identity in the 21st century
DESCRIPTION:Students in Year 11 and above from partner schools are welcome to join this lecture at Radley College. Please email ox14lp@abingdon.org.uk to register. \nThis lecture will take place in the Science Lecture Theatre
URL:https://www.ox14lp.org.uk/event/tomiwa-owolade-this-is-not-america-rethinking-race-and-identity-in-the-21st-century/
LOCATION:Radley College\, OX14 2HR
END:VEVENT
END:VCALENDAR