BEGIN:VCALENDAR
VERSION:2.0
PRODID:-//OX14 Learning Partnership - ECPv6.15.20//NONSGML v1.0//EN
CALSCALE:GREGORIAN
METHOD:PUBLISH
X-ORIGINAL-URL:https://www.ox14lp.org.uk
X-WR-CALDESC:Events for OX14 Learning Partnership
REFRESH-INTERVAL;VALUE=DURATION:PT1H
X-Robots-Tag:noindex
X-PUBLISHED-TTL:PT1H
BEGIN:VTIMEZONE
TZID:Europe/London
BEGIN:DAYLIGHT
TZOFFSETFROM:+0000
TZOFFSETTO:+0100
TZNAME:BST
DTSTART:20220327T010000
END:DAYLIGHT
BEGIN:STANDARD
TZOFFSETFROM:+0100
TZOFFSETTO:+0000
TZNAME:GMT
DTSTART:20221030T010000
END:STANDARD
BEGIN:DAYLIGHT
TZOFFSETFROM:+0000
TZOFFSETTO:+0100
TZNAME:BST
DTSTART:20230326T010000
END:DAYLIGHT
BEGIN:STANDARD
TZOFFSETFROM:+0100
TZOFFSETTO:+0000
TZNAME:GMT
DTSTART:20231029T010000
END:STANDARD
BEGIN:DAYLIGHT
TZOFFSETFROM:+0000
TZOFFSETTO:+0100
TZNAME:BST
DTSTART:20240331T010000
END:DAYLIGHT
BEGIN:STANDARD
TZOFFSETFROM:+0100
TZOFFSETTO:+0000
TZNAME:GMT
DTSTART:20241027T010000
END:STANDARD
END:VTIMEZONE
BEGIN:VEVENT
DTSTART;TZID=Europe/London:20230911T193000
DTEND;TZID=Europe/London:20230911T203000
DTSTAMP:20260424T180451
CREATED:20230707T094011Z
LAST-MODIFIED:20230710T114519Z
UID:1065-1694460600-1694464200@www.ox14lp.org.uk
SUMMARY:History Lecture - 'Mapping the Heavens and Earth in Medieval Science and Art'
DESCRIPTION:The Middle Ages were a time of wonder. They gave us the first universities\, the first eyeglasses and the first mechanical clocks as medieval thinkers sought to understand the world around them\, from the passing of the seasons to the stars in the sky.  This talk is an illuminating guide to the scientific and technological achievements of the Middle Ages through the life of a crusading astronomer-mon \n  \nSixth form students are invited to attend this History Lecture with Dr Seb Falk\, Cambridge. \nPlease email ox14lp@abingdon.org.uk to register.
URL:https://www.ox14lp.org.uk/event/history-lecture-mapping-the-heavens-and-earth-in-medieval-science-and-art/
LOCATION:Radley College\, OX14 2HR
END:VEVENT
END:VCALENDAR