BEGIN:VCALENDAR
VERSION:2.0
PRODID:-//OX14 Learning Partnership - ECPv6.15.20//NONSGML v1.0//EN
CALSCALE:GREGORIAN
METHOD:PUBLISH
X-WR-CALNAME:OX14 Learning Partnership
X-ORIGINAL-URL:https://www.ox14lp.org.uk
X-WR-CALDESC:Events for OX14 Learning Partnership
REFRESH-INTERVAL;VALUE=DURATION:PT1H
X-Robots-Tag:noindex
X-PUBLISHED-TTL:PT1H
BEGIN:VTIMEZONE
TZID:Europe/London
BEGIN:DAYLIGHT
TZOFFSETFROM:+0000
TZOFFSETTO:+0100
TZNAME:BST
DTSTART:20220327T010000
END:DAYLIGHT
BEGIN:STANDARD
TZOFFSETFROM:+0100
TZOFFSETTO:+0000
TZNAME:GMT
DTSTART:20221030T010000
END:STANDARD
BEGIN:DAYLIGHT
TZOFFSETFROM:+0000
TZOFFSETTO:+0100
TZNAME:BST
DTSTART:20230326T010000
END:DAYLIGHT
BEGIN:STANDARD
TZOFFSETFROM:+0100
TZOFFSETTO:+0000
TZNAME:GMT
DTSTART:20231029T010000
END:STANDARD
BEGIN:DAYLIGHT
TZOFFSETFROM:+0000
TZOFFSETTO:+0100
TZNAME:BST
DTSTART:20240331T010000
END:DAYLIGHT
BEGIN:STANDARD
TZOFFSETFROM:+0100
TZOFFSETTO:+0000
TZNAME:GMT
DTSTART:20241027T010000
END:STANDARD
END:VTIMEZONE
BEGIN:VEVENT
DTSTART;TZID=Europe/London:20230323T190000
DTEND;TZID=Europe/London:20230323T210000
DTSTAMP:20260425T020003
CREATED:20230222T111731Z
LAST-MODIFIED:20230222T111824Z
UID:935-1679598000-1679605200@www.ox14lp.org.uk
SUMMARY:An Audience with Ben Macintyre
DESCRIPTION:  \nStudents are invited to attend this talk with Author\, historian\, and associate editor\, columnist and writer-at-large for The Times.  \nJoin Ben Macintyre as he talks about his latest book Colditz: Prisoners of the Castle in which he gives the inside story of life in this infamous German prison for allied officers\, challenging what we always thought we knew. Ben is a bestselling author whose books SAS: Rogue Heroes and A Spy Among Friends have recently been televised. \nLocal independent bookshop\, Mostly Books\, will have a selection of Ben Macintyre’s books\, including limited signed copies\, available to purchase on the night at specially discounted prices. \n\nTickets for under 18s are free of charge.\nhttps://www.abingdon.org.uk/sports-and-leisure/performance/an-audience-with-ben-macintyre-oa-1981/
URL:https://www.ox14lp.org.uk/event/an-audience-with-ben-macintyre/
LOCATION:Amey Theatre\, Abingdon School Park Road Abingdon OX14 1DE Email: ase.info@abingdon.org.uk
END:VEVENT
END:VCALENDAR