BEGIN:VCALENDAR
VERSION:2.0
PRODID:-//OX14 Learning Partnership - ECPv6.15.20//NONSGML v1.0//EN
CALSCALE:GREGORIAN
METHOD:PUBLISH
X-ORIGINAL-URL:https://www.ox14lp.org.uk
X-WR-CALDESC:Events for OX14 Learning Partnership
REFRESH-INTERVAL;VALUE=DURATION:PT1H
X-Robots-Tag:noindex
X-PUBLISHED-TTL:PT1H
BEGIN:VTIMEZONE
TZID:UTC
BEGIN:STANDARD
TZOFFSETFROM:+0000
TZOFFSETTO:+0000
TZNAME:UTC
DTSTART:20220101T000000
END:STANDARD
END:VTIMEZONE
BEGIN:VTIMEZONE
TZID:Europe/London
BEGIN:DAYLIGHT
TZOFFSETFROM:+0000
TZOFFSETTO:+0100
TZNAME:BST
DTSTART:20220327T010000
END:DAYLIGHT
BEGIN:STANDARD
TZOFFSETFROM:+0100
TZOFFSETTO:+0000
TZNAME:GMT
DTSTART:20221030T010000
END:STANDARD
BEGIN:DAYLIGHT
TZOFFSETFROM:+0000
TZOFFSETTO:+0100
TZNAME:BST
DTSTART:20230326T010000
END:DAYLIGHT
BEGIN:STANDARD
TZOFFSETFROM:+0100
TZOFFSETTO:+0000
TZNAME:GMT
DTSTART:20231029T010000
END:STANDARD
BEGIN:DAYLIGHT
TZOFFSETFROM:+0000
TZOFFSETTO:+0100
TZNAME:BST
DTSTART:20240331T010000
END:DAYLIGHT
BEGIN:STANDARD
TZOFFSETFROM:+0100
TZOFFSETTO:+0000
TZNAME:GMT
DTSTART:20241027T010000
END:STANDARD
END:VTIMEZONE
BEGIN:VEVENT
DTSTART;TZID=UTC:20230314T090000
DTEND;TZID=UTC:20230314T120000
DTSTAMP:20260425T020049
CREATED:20221011T095050Z
LAST-MODIFIED:20230228T090931Z
UID:796-1678784400-1678795200@www.ox14lp.org.uk
SUMMARY:Visit to Diamond Light Source (Invite only) 9 - 1 - PLEASE NOTE THIS HAS NOW BEEN POSTPONED
DESCRIPTION:This free event aims to offer an insight into Diamond Light Source and explore the breadth of career journeys that staff have undertaken to get there. The visit involves an ‘Introduction to Diamond’ talk covering how the particle accelerator works and what kind of research happens. Following the talk students will receive a tour of the facility and participate in a Careers Carousel. Diamond Light Source
URL:https://www.ox14lp.org.uk/event/visit-to-diamond-light-source-invite-only/
END:VEVENT
BEGIN:VEVENT
DTSTART;TZID=Europe/London:20230314T161500
DTEND;TZID=Europe/London:20230314T170000
DTSTAMP:20260425T020049
CREATED:20230125T110509Z
LAST-MODIFIED:20230222T105601Z
UID:886-1678810500-1678813200@www.ox14lp.org.uk
SUMMARY:Peer Support Lead Training
DESCRIPTION:PSL students are invited to attend this training session as part of the Peer Support Lead training programme. More details to come.
URL:https://www.ox14lp.org.uk/event/peer-support-lead-training/
LOCATION:Radley College\, OX14 2HR
END:VEVENT
END:VCALENDAR