BEGIN:VCALENDAR
VERSION:2.0
PRODID:-//OX14 Learning Partnership - ECPv6.15.20//NONSGML v1.0//EN
CALSCALE:GREGORIAN
METHOD:PUBLISH
X-WR-CALNAME:OX14 Learning Partnership
X-ORIGINAL-URL:https://www.ox14lp.org.uk
X-WR-CALDESC:Events for OX14 Learning Partnership
REFRESH-INTERVAL;VALUE=DURATION:PT1H
X-Robots-Tag:noindex
X-PUBLISHED-TTL:PT1H
BEGIN:VTIMEZONE
TZID:UTC
BEGIN:STANDARD
TZOFFSETFROM:+0000
TZOFFSETTO:+0000
TZNAME:UTC
DTSTART:20220101T000000
END:STANDARD
END:VTIMEZONE
BEGIN:VEVENT
DTSTART;TZID=UTC:20230308T093000
DTEND;TZID=UTC:20230308T120000
DTSTAMP:20260425T020004
CREATED:20221013T075635Z
LAST-MODIFIED:20230112T114040Z
UID:804-1678267800-1678276800@www.ox14lp.org.uk
SUMMARY:Othello NT Screening
DESCRIPTION:A special screening for students and teachers in OX14 LP Schools . Teachers please email ox14lp@abingdon.org.uk to reserve tickets for your students.
URL:https://www.ox14lp.org.uk/event/othello-nt-screening/
LOCATION:Amey Theatre\, Abingdon School Park Road Abingdon OX14 1DE Email: ase.info@abingdon.org.uk
END:VEVENT
END:VCALENDAR