BEGIN:VCALENDAR
VERSION:2.0
PRODID:-//OX14 Learning Partnership - ECPv6.15.20//NONSGML v1.0//EN
CALSCALE:GREGORIAN
METHOD:PUBLISH
X-ORIGINAL-URL:https://www.ox14lp.org.uk
X-WR-CALDESC:Events for OX14 Learning Partnership
REFRESH-INTERVAL;VALUE=DURATION:PT1H
X-Robots-Tag:noindex
X-PUBLISHED-TTL:PT1H
BEGIN:VTIMEZONE
TZID:Europe/London
BEGIN:DAYLIGHT
TZOFFSETFROM:+0000
TZOFFSETTO:+0100
TZNAME:BST
DTSTART:20220327T010000
END:DAYLIGHT
BEGIN:STANDARD
TZOFFSETFROM:+0100
TZOFFSETTO:+0000
TZNAME:GMT
DTSTART:20221030T010000
END:STANDARD
BEGIN:DAYLIGHT
TZOFFSETFROM:+0000
TZOFFSETTO:+0100
TZNAME:BST
DTSTART:20230326T010000
END:DAYLIGHT
BEGIN:STANDARD
TZOFFSETFROM:+0100
TZOFFSETTO:+0000
TZNAME:GMT
DTSTART:20231029T010000
END:STANDARD
BEGIN:DAYLIGHT
TZOFFSETFROM:+0000
TZOFFSETTO:+0100
TZNAME:BST
DTSTART:20240331T010000
END:DAYLIGHT
BEGIN:STANDARD
TZOFFSETFROM:+0100
TZOFFSETTO:+0000
TZNAME:GMT
DTSTART:20241027T010000
END:STANDARD
END:VTIMEZONE
BEGIN:VEVENT
DTSTART;TZID=Europe/London:20230302T160000
DTEND;TZID=Europe/London:20230302T170000
DTSTAMP:20260425T020043
CREATED:20230125T112017Z
LAST-MODIFIED:20230125T112019Z
UID:904-1677772800-1677776400@www.ox14lp.org.uk
SUMMARY:Oxfordshire Academy of Broadcast Journalism: Media law and ethics
DESCRIPTION:Open to OABJ Members \nJoin this online session to find out more about media law and ethics. This session will focus on how to stay safe\, legal and decent as a broadcaster.
URL:https://www.ox14lp.org.uk/event/oxfordshire-academy-of-broadcast-journalism-media-law-and-ethics/
LOCATION:Online
END:VEVENT
BEGIN:VEVENT
DTSTART;TZID=Europe/London:20230302T173000
DTEND;TZID=Europe/London:20230302T183000
DTSTAMP:20260425T020043
CREATED:20220912T082644Z
LAST-MODIFIED:20221005T075537Z
UID:769-1677778200-1677781800@www.ox14lp.org.uk
SUMMARY:Professor Aviva Burnstock\, The Courtauld Institute: Art meets Science for the technical study of paintings
DESCRIPTION:Join students from across the partnership at this fascinating lecture with Professor Aviva Burnstock\, The Courtauld Institute. \nThis talk will take place in the Science Lecture Theatre at Radley College. \nPlease register here
URL:https://www.ox14lp.org.uk/event/art-meets-science-for-the-technical-study-of-paintings/
LOCATION:Radley College\, OX14 2HR
END:VEVENT
BEGIN:VEVENT
DTSTART;TZID=Europe/London:20230302T180000
DTEND;TZID=Europe/London:20230302T200000
DTSTAMP:20260425T020043
CREATED:20230220T123832Z
LAST-MODIFIED:20230220T123835Z
UID:925-1677780000-1677787200@www.ox14lp.org.uk
SUMMARY:Is Oxbridge for me?
DESCRIPTION:Members of the Oxbridge Club are invited to attend this event.\nCome and meet:\n-Alumnae who have recently graduated from Oxford/Cambridge talking about their experiences at university and how they think they have contributed to the path they are now on\n-An Access Officer from Oxford University talking about the admissions process (there in person)\n-An Access Office from Cambridge University (virtual) talking about Cambridge-specific parts of the application process\n-Alumnae who are currently at Oxford talking about their experiences of applying and what is like to be an Oxford student.\n\nStudents may be unaccompanied at this event.
URL:https://www.ox14lp.org.uk/event/is-oxbridge-for-me/
LOCATION:St Helen and St Katharine’s\, St Helen and St Katharine Faringdon Road Abingdon Oxfordshire OX14 1BE\, OX14 1BE\, United Kingdom
END:VEVENT
BEGIN:VEVENT
DTSTART;TZID=Europe/London:20230302T183000
DTEND;TZID=Europe/London:20230302T200000
DTSTAMP:20260425T020043
CREATED:20230220T124203Z
LAST-MODIFIED:20230221T090511Z
UID:927-1677781800-1677787200@www.ox14lp.org.uk
SUMMARY:Entrepreneurship Panel Event
DESCRIPTION:  \nWant to become an entrepreneur?\nDo you have what it takes? \nMerlin Dunlop and Stephen Pavlovich (both 1997) will be in discussion with Tony Gray\,\nAbingdon’s Head of Economics at this evening event. \nMerlin is a medical doctor and co-founder of Ardens\, who provide clinical decision support software to over 85% of English GP surgeries. Ardens also provides Primary Care IT consultancy services for Research Groups and private clients. Ardens Manager\, Ardens’ data analytics platform launched in 2019\, is rapidly becoming one of the most popular Primary Care data analytics products for GPs\, Primary Care Networks and Integrated Care Boards across the NHS.\n\n\nStephen is the founder and UK managing director at Conversion\, the world’s largest CRO and experimentation agency\, where he works with clients like Meta\, Microsoft\, Deliveroo and Tesco. Since selling Conversion in 2020\, Stephen is also chief strategy officer at parent company Sideshow Group and managing director at sister company Bunnyfoot\, a UX and service design agency.\n\nDuro is currently studying business management at Bristol. At Abingdon he always had a passion for producing and mixing music; this passion has carried over to his time in Bristol where he is now helping to manage multiple events as well as performing at them.\n\nThe event will end with a Q&A session.\n\n\n1830 : hospitality suite\, Sports Centre. Abingdon School. Thursday 2 March.\nTo attend please register via the form here \nOr follow the link here 
URL:https://www.ox14lp.org.uk/event/927/
LOCATION:Abingdon School
END:VEVENT
END:VCALENDAR