BEGIN:VCALENDAR
VERSION:2.0
PRODID:-//OX14 Learning Partnership - ECPv6.15.20//NONSGML v1.0//EN
CALSCALE:GREGORIAN
METHOD:PUBLISH
X-ORIGINAL-URL:https://www.ox14lp.org.uk
X-WR-CALDESC:Events for OX14 Learning Partnership
REFRESH-INTERVAL;VALUE=DURATION:PT1H
X-Robots-Tag:noindex
X-PUBLISHED-TTL:PT1H
BEGIN:VTIMEZONE
TZID:Europe/London
BEGIN:DAYLIGHT
TZOFFSETFROM:+0000
TZOFFSETTO:+0100
TZNAME:BST
DTSTART:20220327T010000
END:DAYLIGHT
BEGIN:STANDARD
TZOFFSETFROM:+0100
TZOFFSETTO:+0000
TZNAME:GMT
DTSTART:20221030T010000
END:STANDARD
BEGIN:DAYLIGHT
TZOFFSETFROM:+0000
TZOFFSETTO:+0100
TZNAME:BST
DTSTART:20230326T010000
END:DAYLIGHT
BEGIN:STANDARD
TZOFFSETFROM:+0100
TZOFFSETTO:+0000
TZNAME:GMT
DTSTART:20231029T010000
END:STANDARD
BEGIN:DAYLIGHT
TZOFFSETFROM:+0000
TZOFFSETTO:+0100
TZNAME:BST
DTSTART:20240331T010000
END:DAYLIGHT
BEGIN:STANDARD
TZOFFSETFROM:+0100
TZOFFSETTO:+0000
TZNAME:GMT
DTSTART:20241027T010000
END:STANDARD
END:VTIMEZONE
BEGIN:VEVENT
DTSTART;TZID=Europe/London:20230224T190000
DTEND;TZID=Europe/London:20230224T210000
DTSTAMP:20260425T032719
CREATED:20230123T103257Z
LAST-MODIFIED:20230123T103301Z
UID:874-1677265200-1677272400@www.ox14lp.org.uk
SUMMARY:The Road to Recovery: Finding Treatments for a pandemic (A talk by Prof Sir Martin Landray)
DESCRIPTION:Martin Landray (OA 1987)\, Professor of Medicine & Epidemiology at Oxford Population Health and Deputy Director of the University of Oxford’s Big Data Institute\, will give a fascinating talk on his pivotal role in the RECOVERY trial (the world’s largest trial of potential treatments for COVID-19 and the discovery that dexamethasone reduces mortality for the sickest patients) for which he received a knighthood for services to public health and science. \nStudents from the OX14 LP are invited to book their free ticket.    Book here
URL:https://www.ox14lp.org.uk/event/the-road-to-recovery-finding-treatments-for-a-pandemic-a-talk-by-prof-sir-martin-landray/
LOCATION:Amey Theatre\, Abingdon School Park Road Abingdon OX14 1DE Email: ase.info@abingdon.org.uk
END:VEVENT
END:VCALENDAR