BEGIN:VCALENDAR
VERSION:2.0
PRODID:-//OX14 Learning Partnership - ECPv6.15.20//NONSGML v1.0//EN
CALSCALE:GREGORIAN
METHOD:PUBLISH
X-WR-CALNAME:OX14 Learning Partnership
X-ORIGINAL-URL:https://www.ox14lp.org.uk
X-WR-CALDESC:Events for OX14 Learning Partnership
REFRESH-INTERVAL;VALUE=DURATION:PT1H
X-Robots-Tag:noindex
X-PUBLISHED-TTL:PT1H
BEGIN:VTIMEZONE
TZID:Europe/London
BEGIN:DAYLIGHT
TZOFFSETFROM:+0000
TZOFFSETTO:+0100
TZNAME:BST
DTSTART:20220327T010000
END:DAYLIGHT
BEGIN:STANDARD
TZOFFSETFROM:+0100
TZOFFSETTO:+0000
TZNAME:GMT
DTSTART:20221030T010000
END:STANDARD
BEGIN:DAYLIGHT
TZOFFSETFROM:+0000
TZOFFSETTO:+0100
TZNAME:BST
DTSTART:20230326T010000
END:DAYLIGHT
BEGIN:STANDARD
TZOFFSETFROM:+0100
TZOFFSETTO:+0000
TZNAME:GMT
DTSTART:20231029T010000
END:STANDARD
BEGIN:DAYLIGHT
TZOFFSETFROM:+0000
TZOFFSETTO:+0100
TZNAME:BST
DTSTART:20240331T010000
END:DAYLIGHT
BEGIN:STANDARD
TZOFFSETFROM:+0100
TZOFFSETTO:+0000
TZNAME:GMT
DTSTART:20241027T010000
END:STANDARD
END:VTIMEZONE
BEGIN:VEVENT
DTSTART;TZID=Europe/London:20230206T040000
DTEND;TZID=Europe/London:20230206T170000
DTSTAMP:20260425T032556
CREATED:20230125T111425Z
LAST-MODIFIED:20230125T111427Z
UID:895-1675656000-1675702800@www.ox14lp.org.uk
SUMMARY:Oxfordshire Academy of Broadcast Journalism: Writing session 2
DESCRIPTION:Open to OABJ Members \nJoin this online session to prepare your first piece of writing in the form of a blog\, print or script.
URL:https://www.ox14lp.org.uk/event/oxfordshire-academy-of-broadcast-journalism-writing-session-2/
LOCATION:Online
END:VEVENT
BEGIN:VEVENT
DTSTART;TZID=Europe/London:20230206T161000
DTEND;TZID=Europe/London:20230206T170500
DTSTAMP:20260425T032556
CREATED:20220706T082725Z
LAST-MODIFIED:20230206T093830Z
UID:720-1675699800-1675703100@www.ox14lp.org.uk
SUMMARY:Careers at the Intersection of Art & Design and Computing - FULLY BOOKED
DESCRIPTION:Career Insight Talk – Art & Design and Computer Technologies – Slide \n\n\nCareers at the Intersection of Art & Design and Computing\nMonday\, 6 February 2023\, 4:10 to 5:05 (please arrive at Faringdon Lodge Reception\, OX14 1BQ\, no later than 4:00 in order to be escorted to event venue)\nSports Centre Hospitality Suite\, Abingdon School\n\nOpen to all GCSE and A-Level students from OX14 schools.\n\n\nAre you interested in a career that marries art & design with computing?  If so\, this careers event is for you!  “Careers at the Intersection of Art & Design and Computing” will show students how art & design and computer programming and software knowledge and skills are combined in three different professions: video game design & development\, film animation & special effects\, and architecture & interior design.\n\n \n \n \n\nPlease arrive at Faringdon Lodge Reception (OX14 1BQ) no later than 4:00 in order to be escorted to event venue.  Regrettably\, late arrivals cannot be accommodated.
URL:https://www.ox14lp.org.uk/event/careers-event-2/
LOCATION:Abingdon School
END:VEVENT
END:VCALENDAR