BEGIN:VCALENDAR
VERSION:2.0
PRODID:-//OX14 Learning Partnership - ECPv6.15.20//NONSGML v1.0//EN
CALSCALE:GREGORIAN
METHOD:PUBLISH
X-WR-CALNAME:OX14 Learning Partnership
X-ORIGINAL-URL:https://www.ox14lp.org.uk
X-WR-CALDESC:Events for OX14 Learning Partnership
REFRESH-INTERVAL;VALUE=DURATION:PT1H
X-Robots-Tag:noindex
X-PUBLISHED-TTL:PT1H
BEGIN:VTIMEZONE
TZID:Europe/London
BEGIN:DAYLIGHT
TZOFFSETFROM:+0000
TZOFFSETTO:+0100
TZNAME:BST
DTSTART:20220327T010000
END:DAYLIGHT
BEGIN:STANDARD
TZOFFSETFROM:+0100
TZOFFSETTO:+0000
TZNAME:GMT
DTSTART:20221030T010000
END:STANDARD
BEGIN:DAYLIGHT
TZOFFSETFROM:+0000
TZOFFSETTO:+0100
TZNAME:BST
DTSTART:20230326T010000
END:DAYLIGHT
BEGIN:STANDARD
TZOFFSETFROM:+0100
TZOFFSETTO:+0000
TZNAME:GMT
DTSTART:20231029T010000
END:STANDARD
BEGIN:DAYLIGHT
TZOFFSETFROM:+0000
TZOFFSETTO:+0100
TZNAME:BST
DTSTART:20240331T010000
END:DAYLIGHT
BEGIN:STANDARD
TZOFFSETFROM:+0100
TZOFFSETTO:+0000
TZNAME:GMT
DTSTART:20241027T010000
END:STANDARD
END:VTIMEZONE
BEGIN:VEVENT
DTSTART;TZID=Europe/London:20230130T160000
DTEND;TZID=Europe/London:20230130T170000
DTSTAMP:20260425T032557
CREATED:20220906T103531Z
LAST-MODIFIED:20220908T084555Z
UID:739-1675094400-1675098000@www.ox14lp.org.uk
SUMMARY:Descartes Philosophy Lecture
DESCRIPTION:Sixth form students in partner schools are invited to a lecture by  Dr John Cottingham (the leading\, living world expert on Rene Descartes\, the father of modern philosophy) delivering a lecture on Descartes. This will be held in the CMR.  Dr Cottingham has spoken here a few times\, and given how prominently Descartes features on A-level specifications\, there is no better person to deliver a session on him. Dr Cottingham is famous for a number of reasons\, but notably introducing the term ‘trialism’\, as a development of Cartasian dualism. Even if Descartes doesn’t feature overtly on an A-level’s programme of study\, given how important Descartes is in the history of modern thought\, this lecture comes highly recommended either way. \n  \nTeachers please contact @ox14lp@abingdon.org.uk to bring a group.
URL:https://www.ox14lp.org.uk/event/descartes-philosophy-lecture/
LOCATION:Abingdon School
END:VEVENT
BEGIN:VEVENT
DTSTART;TZID=Europe/London:20230130T160000
DTEND;TZID=Europe/London:20230130T170000
DTSTAMP:20260425T032557
CREATED:20230125T111126Z
LAST-MODIFIED:20230125T111128Z
UID:890-1675094400-1675098000@www.ox14lp.org.uk
SUMMARY:Oxfordshire Academy of Broadcast Journalism: Talking 1
DESCRIPTION:Open to OABJ Members \nJoin this online session to find out more about the art of podcasting and radio broadcasting.
URL:https://www.ox14lp.org.uk/event/oxfordshire-academy-of-broadcast-journalism-talking-1/
LOCATION:Online
END:VEVENT
END:VCALENDAR