BEGIN:VCALENDAR
VERSION:2.0
PRODID:-//OX14 Learning Partnership - ECPv6.15.20//NONSGML v1.0//EN
CALSCALE:GREGORIAN
METHOD:PUBLISH
X-WR-CALNAME:OX14 Learning Partnership
X-ORIGINAL-URL:https://www.ox14lp.org.uk
X-WR-CALDESC:Events for OX14 Learning Partnership
REFRESH-INTERVAL;VALUE=DURATION:PT1H
X-Robots-Tag:noindex
X-PUBLISHED-TTL:PT1H
BEGIN:VTIMEZONE
TZID:Europe/London
BEGIN:DAYLIGHT
TZOFFSETFROM:+0000
TZOFFSETTO:+0100
TZNAME:BST
DTSTART:20220327T010000
END:DAYLIGHT
BEGIN:STANDARD
TZOFFSETFROM:+0100
TZOFFSETTO:+0000
TZNAME:GMT
DTSTART:20221030T010000
END:STANDARD
BEGIN:DAYLIGHT
TZOFFSETFROM:+0000
TZOFFSETTO:+0100
TZNAME:BST
DTSTART:20230326T010000
END:DAYLIGHT
BEGIN:STANDARD
TZOFFSETFROM:+0100
TZOFFSETTO:+0000
TZNAME:GMT
DTSTART:20231029T010000
END:STANDARD
BEGIN:DAYLIGHT
TZOFFSETFROM:+0000
TZOFFSETTO:+0100
TZNAME:BST
DTSTART:20240331T010000
END:DAYLIGHT
BEGIN:STANDARD
TZOFFSETFROM:+0100
TZOFFSETTO:+0000
TZNAME:GMT
DTSTART:20241027T010000
END:STANDARD
END:VTIMEZONE
BEGIN:VEVENT
DTSTART;TZID=Europe/London:20230124T160000
DTEND;TZID=Europe/London:20230124T170000
DTSTAMP:20260425T043856
CREATED:20230105T094334Z
LAST-MODIFIED:20230106T133500Z
UID:860-1674576000-1674579600@www.ox14lp.org.uk
SUMMARY:Student Forum Meeting
DESCRIPTION:Elected Student Forum Committee members will meet to discuss upcoming events and ideas.
URL:https://www.ox14lp.org.uk/event/student-forum-meeting/
LOCATION:St Helen and St Katharine’s\, St Helen and St Katharine Faringdon Road Abingdon Oxfordshire OX14 1BE\, OX14 1BE\, United Kingdom
END:VEVENT
BEGIN:VEVENT
DTSTART;TZID=Europe/London:20230124T160000
DTEND;TZID=Europe/London:20230124T171000
DTSTAMP:20260425T043856
CREATED:20230105T091012Z
LAST-MODIFIED:20230105T091015Z
UID:855-1674576000-1674580200@www.ox14lp.org.uk
SUMMARY:Oxbridge Club - Group 2 (Invite only)
DESCRIPTION:Students in Year 11 are invited to attend termly sessions to find out more about applying and going to Oxford or Cambridge University. These sessions will be an opportunity to meet with other interested students from across our partner schools and find out more about the processes and expectations. Please talk to your Partnership Champion for more information. \n  \nArrival from 4pm with the session starting around 4.20
URL:https://www.ox14lp.org.uk/event/oxbridge-club-group-2-invite-only/
LOCATION:St Helen and St Katharine’s\, St Helen and St Katharine Faringdon Road Abingdon Oxfordshire OX14 1BE\, OX14 1BE\, United Kingdom
END:VEVENT
END:VCALENDAR