BEGIN:VCALENDAR
VERSION:2.0
PRODID:-//OX14 Learning Partnership - ECPv6.15.20//NONSGML v1.0//EN
CALSCALE:GREGORIAN
METHOD:PUBLISH
X-WR-CALNAME:OX14 Learning Partnership
X-ORIGINAL-URL:https://www.ox14lp.org.uk
X-WR-CALDESC:Events for OX14 Learning Partnership
REFRESH-INTERVAL;VALUE=DURATION:PT1H
X-Robots-Tag:noindex
X-PUBLISHED-TTL:PT1H
BEGIN:VTIMEZONE
TZID:Europe/London
BEGIN:DAYLIGHT
TZOFFSETFROM:+0000
TZOFFSETTO:+0100
TZNAME:BST
DTSTART:20220327T010000
END:DAYLIGHT
BEGIN:STANDARD
TZOFFSETFROM:+0100
TZOFFSETTO:+0000
TZNAME:GMT
DTSTART:20221030T010000
END:STANDARD
BEGIN:DAYLIGHT
TZOFFSETFROM:+0000
TZOFFSETTO:+0100
TZNAME:BST
DTSTART:20230326T010000
END:DAYLIGHT
BEGIN:STANDARD
TZOFFSETFROM:+0100
TZOFFSETTO:+0000
TZNAME:GMT
DTSTART:20231029T010000
END:STANDARD
BEGIN:DAYLIGHT
TZOFFSETFROM:+0000
TZOFFSETTO:+0100
TZNAME:BST
DTSTART:20240331T010000
END:DAYLIGHT
BEGIN:STANDARD
TZOFFSETFROM:+0100
TZOFFSETTO:+0000
TZNAME:GMT
DTSTART:20241027T010000
END:STANDARD
END:VTIMEZONE
BEGIN:VEVENT
DTSTART;TZID=Europe/London:20230119T154500
DTEND;TZID=Europe/London:20230119T170000
DTSTAMP:20260425T043856
CREATED:20221123T140626Z
LAST-MODIFIED:20221123T140629Z
UID:835-1674143100-1674147600@www.ox14lp.org.uk
SUMMARY:History Lecture
DESCRIPTION:A Level History Students are invited to attend a lecture with eminent public historian https://www.helenhcarr.com/ at Abingdon School.\n\nHer recent book https://www.amazon.co.uk/What-History-Now-Suzannah-Lipscomb/dp/1474622453 is very well reviewed and modern in its approach. It’s a great opportunity for those interested in exploring the theory of history in more detail.\n\nSpaces are limited\, please email ox14lp@abingdon.org.uk to register your interest.
URL:https://www.ox14lp.org.uk/event/history-lecture/
LOCATION:Abingdon School
END:VEVENT
BEGIN:VEVENT
DTSTART;TZID=Europe/London:20230119T162000
DTEND;TZID=Europe/London:20230119T171000
DTSTAMP:20260425T043856
CREATED:20221212T144534Z
LAST-MODIFIED:20221213T135023Z
UID:846-1674145200-1674148200@www.ox14lp.org.uk
SUMMARY:Academic Coaching Training 2
DESCRIPTION:Students from across the partnership have been invited to take part in the Academic Coaching Programme. Students will take part in training sessions before working with younger students on their goals. \nThe online link will be emailed to applicants.
URL:https://www.ox14lp.org.uk/event/academic-coaching-training-2/
LOCATION:Online
END:VEVENT
BEGIN:VEVENT
DTSTART;TZID=Europe/London:20230119T183000
DTEND;TZID=Europe/London:20230119T200000
DTSTAMP:20260425T043856
CREATED:20220524T115253Z
LAST-MODIFIED:20230110T155108Z
UID:671-1674153000-1674158400@www.ox14lp.org.uk
SUMMARY:Gap Year Advice Evening
DESCRIPTION:Come and find out about taking a Gap Year and whether it is right for you. This online talk is open to students and their parents from all partner schools in Year 11 and Sixth form.  Registration is via the link here http://bit.ly/GapYearAdvice2023 \n  \nGap Year Advice Evening 2023 poster (1)
URL:https://www.ox14lp.org.uk/event/gap-year-advice-evening/
LOCATION:Online
END:VEVENT
END:VCALENDAR