BEGIN:VCALENDAR
VERSION:2.0
PRODID:-//OX14 Learning Partnership - ECPv6.15.20//NONSGML v1.0//EN
CALSCALE:GREGORIAN
METHOD:PUBLISH
X-ORIGINAL-URL:https://www.ox14lp.org.uk
X-WR-CALDESC:Events for OX14 Learning Partnership
REFRESH-INTERVAL;VALUE=DURATION:PT1H
X-Robots-Tag:noindex
X-PUBLISHED-TTL:PT1H
BEGIN:VTIMEZONE
TZID:Europe/London
BEGIN:DAYLIGHT
TZOFFSETFROM:+0000
TZOFFSETTO:+0100
TZNAME:BST
DTSTART:20220327T010000
END:DAYLIGHT
BEGIN:STANDARD
TZOFFSETFROM:+0100
TZOFFSETTO:+0000
TZNAME:GMT
DTSTART:20221030T010000
END:STANDARD
BEGIN:DAYLIGHT
TZOFFSETFROM:+0000
TZOFFSETTO:+0100
TZNAME:BST
DTSTART:20230326T010000
END:DAYLIGHT
BEGIN:STANDARD
TZOFFSETFROM:+0100
TZOFFSETTO:+0000
TZNAME:GMT
DTSTART:20231029T010000
END:STANDARD
BEGIN:DAYLIGHT
TZOFFSETFROM:+0000
TZOFFSETTO:+0100
TZNAME:BST
DTSTART:20240331T010000
END:DAYLIGHT
BEGIN:STANDARD
TZOFFSETFROM:+0100
TZOFFSETTO:+0000
TZNAME:GMT
DTSTART:20241027T010000
END:STANDARD
END:VTIMEZONE
BEGIN:VTIMEZONE
TZID:UTC
BEGIN:STANDARD
TZOFFSETFROM:+0000
TZOFFSETTO:+0000
TZNAME:UTC
DTSTART:20220101T000000
END:STANDARD
END:VTIMEZONE
BEGIN:VEVENT
DTSTART;TZID=Europe/London:20230112T162000
DTEND;TZID=Europe/London:20230112T171000
DTSTAMP:20260425T044007
CREATED:20221212T144358Z
LAST-MODIFIED:20221213T133025Z
UID:844-1673540400-1673543400@www.ox14lp.org.uk
SUMMARY:Academic Coaching Training Session 1
DESCRIPTION:Students from across the partnership have been invited to take part in the Academic Coaching Programme. Students will take part in training sessions before working with younger students on their goals. \nThe online link will be emailed to applicants.
URL:https://www.ox14lp.org.uk/event/academic-coaching-training-session-1/
LOCATION:Online
END:VEVENT
BEGIN:VEVENT
DTSTART;TZID=UTC:20230112T173000
DTEND;TZID=UTC:20230112T183000
DTSTAMP:20260425T044007
CREATED:20220912T082426Z
LAST-MODIFIED:20221005T075231Z
UID:765-1673544600-1673548200@www.ox14lp.org.uk
SUMMARY:Professor Tom Welton OBE\, Imperial College:Chemistry in a world of sustainability
DESCRIPTION:Join students from across the partnership at this fascinating lecture with Professor Tom Welton OBE\, Imperial College. \nThis talk will be held in the Science Lecture Theatre at Radley College. \nPlease register here
URL:https://www.ox14lp.org.uk/event/chemistry-in-a-world-of-sustainability/
LOCATION:Radley College\, OX14 2HR
END:VEVENT
END:VCALENDAR