BEGIN:VCALENDAR
VERSION:2.0
PRODID:-//OX14 Learning Partnership - ECPv6.15.20//NONSGML v1.0//EN
CALSCALE:GREGORIAN
METHOD:PUBLISH
X-WR-CALNAME:OX14 Learning Partnership
X-ORIGINAL-URL:https://www.ox14lp.org.uk
X-WR-CALDESC:Events for OX14 Learning Partnership
REFRESH-INTERVAL;VALUE=DURATION:PT1H
X-Robots-Tag:noindex
X-PUBLISHED-TTL:PT1H
BEGIN:VTIMEZONE
TZID:UTC
BEGIN:STANDARD
TZOFFSETFROM:+0000
TZOFFSETTO:+0000
TZNAME:UTC
DTSTART:20210101T000000
END:STANDARD
END:VTIMEZONE
BEGIN:VEVENT
DTSTART;TZID=UTC:20220621T160000
DTEND;TZID=UTC:20220621T170000
DTSTAMP:20260425T144154
CREATED:20220621T084810Z
LAST-MODIFIED:20220621T085048Z
UID:690-1655827200-1655830800@www.ox14lp.org.uk
SUMMARY:OX14 LP Student Forum
DESCRIPTION:A chance for students from across all partner schools to meet and collaborate on partnership projects.
URL:https://www.ox14lp.org.uk/event/ox14-lp-student-forum/
END:VEVENT
END:VCALENDAR