BEGIN:VCALENDAR
VERSION:2.0
PRODID:-//OX14 Learning Partnership - ECPv6.15.20//NONSGML v1.0//EN
CALSCALE:GREGORIAN
METHOD:PUBLISH
X-WR-CALNAME:OX14 Learning Partnership
X-ORIGINAL-URL:https://www.ox14lp.org.uk
X-WR-CALDESC:Events for OX14 Learning Partnership
REFRESH-INTERVAL;VALUE=DURATION:PT1H
X-Robots-Tag:noindex
X-PUBLISHED-TTL:PT1H
BEGIN:VTIMEZONE
TZID:UTC
BEGIN:STANDARD
TZOFFSETFROM:+0000
TZOFFSETTO:+0000
TZNAME:UTC
DTSTART:20210101T000000
END:STANDARD
END:VTIMEZONE
BEGIN:VEVENT
DTSTART;TZID=UTC:20220510T160000
DTEND;TZID=UTC:20220510T170000
DTSTAMP:20260425T161707
CREATED:20220428T102225Z
LAST-MODIFIED:20220428T103559Z
UID:640-1652198400-1652202000@www.ox14lp.org.uk
SUMMARY:Ethics of Artificial Intelligence - Professor Sandra Wachter
DESCRIPTION:Professor Sandra Wachter is a senior research fellow at the University of Oxford Internet Institute. She works with the World Bank\, European Commission and the UK government as well as other governments and NGOs around the world to advise on ethical questions concerning emerging technologies. She will be joining students from the OX14 LP to talk about the ethical issues surrounding A.I. 6th Form students in OX14 LP schools are invited to sign up here to join. \nEthics and A.I. event poster (1) \n  \n  \n  \n 
URL:https://www.ox14lp.org.uk/event/ethics-of-artificial-intelligence-professor-sandra-wachter/
LOCATION:St Helen and St Katharine’s\, St Helen and St Katharine Faringdon Road Abingdon Oxfordshire OX14 1BE\, OX14 1BE\, United Kingdom
END:VEVENT
END:VCALENDAR