BEGIN:VCALENDAR
VERSION:2.0
PRODID:-//OX14 Learning Partnership - ECPv6.15.20//NONSGML v1.0//EN
CALSCALE:GREGORIAN
METHOD:PUBLISH
X-ORIGINAL-URL:https://www.ox14lp.org.uk
X-WR-CALDESC:Events for OX14 Learning Partnership
REFRESH-INTERVAL;VALUE=DURATION:PT1H
X-Robots-Tag:noindex
X-PUBLISHED-TTL:PT1H
BEGIN:VTIMEZONE
TZID:Europe/London
BEGIN:DAYLIGHT
TZOFFSETFROM:+0000
TZOFFSETTO:+0100
TZNAME:BST
DTSTART:20210328T010000
END:DAYLIGHT
BEGIN:STANDARD
TZOFFSETFROM:+0100
TZOFFSETTO:+0000
TZNAME:GMT
DTSTART:20211031T010000
END:STANDARD
BEGIN:DAYLIGHT
TZOFFSETFROM:+0000
TZOFFSETTO:+0100
TZNAME:BST
DTSTART:20220327T010000
END:DAYLIGHT
BEGIN:STANDARD
TZOFFSETFROM:+0100
TZOFFSETTO:+0000
TZNAME:GMT
DTSTART:20221030T010000
END:STANDARD
BEGIN:DAYLIGHT
TZOFFSETFROM:+0000
TZOFFSETTO:+0100
TZNAME:BST
DTSTART:20230326T010000
END:DAYLIGHT
BEGIN:STANDARD
TZOFFSETFROM:+0100
TZOFFSETTO:+0000
TZNAME:GMT
DTSTART:20231029T010000
END:STANDARD
END:VTIMEZONE
BEGIN:VEVENT
DTSTART;TZID=Europe/London:20220509T170000
DTEND;TZID=Europe/London:20220509T180000
DTSTAMP:20260425T161753
CREATED:20211020T104544Z
LAST-MODIFIED:20220214T092540Z
UID:238-1652115600-1652119200@www.ox14lp.org.uk
SUMMARY:Lecture: 'How will Climate change affect me?'  - Dr Brenda Boardman MBE
DESCRIPTION:‘How will climate change affect me?’  A talk about ethical and economic considerations that result in climate change and  ideas about how we as citizens can respond to alleviate the challenges we are facing. \nDr Brenda Boardman MBE\, Emeritus Fellow at the Environmental Change Institute. Please sign up here. \n  \nRadley College\, Theatre\, parking is available in Bursary/Reception car park right next to Theatre.
URL:https://www.ox14lp.org.uk/event/lecture-is-climate-change-of-relevance-to-me-dr-brenda-boardman-mbe/
LOCATION:Radley College\, OX14 2HR
END:VEVENT
END:VCALENDAR