BEGIN:VCALENDAR
VERSION:2.0
PRODID:-//OX14 Learning Partnership - ECPv6.15.20//NONSGML v1.0//EN
CALSCALE:GREGORIAN
METHOD:PUBLISH
X-ORIGINAL-URL:https://www.ox14lp.org.uk
X-WR-CALDESC:Events for OX14 Learning Partnership
REFRESH-INTERVAL;VALUE=DURATION:PT1H
X-Robots-Tag:noindex
X-PUBLISHED-TTL:PT1H
BEGIN:VTIMEZONE
TZID:Europe/London
BEGIN:DAYLIGHT
TZOFFSETFROM:+0000
TZOFFSETTO:+0100
TZNAME:BST
DTSTART:20200329T010000
END:DAYLIGHT
BEGIN:STANDARD
TZOFFSETFROM:+0100
TZOFFSETTO:+0000
TZNAME:GMT
DTSTART:20201025T010000
END:STANDARD
BEGIN:DAYLIGHT
TZOFFSETFROM:+0000
TZOFFSETTO:+0100
TZNAME:BST
DTSTART:20210328T010000
END:DAYLIGHT
BEGIN:STANDARD
TZOFFSETFROM:+0100
TZOFFSETTO:+0000
TZNAME:GMT
DTSTART:20211031T010000
END:STANDARD
BEGIN:DAYLIGHT
TZOFFSETFROM:+0000
TZOFFSETTO:+0100
TZNAME:BST
DTSTART:20220327T010000
END:DAYLIGHT
BEGIN:STANDARD
TZOFFSETFROM:+0100
TZOFFSETTO:+0000
TZNAME:GMT
DTSTART:20221030T010000
END:STANDARD
END:VTIMEZONE
BEGIN:VEVENT
DTSTART;TZID=Europe/London:20211127T190000
DTEND;TZID=Europe/London:20211127T210000
DTSTAMP:20260426T001801
CREATED:20211122T140555Z
LAST-MODIFIED:20211122T140559Z
UID:393-1638039600-1638046800@www.ox14lp.org.uk
SUMMARY:Charity Concert
DESCRIPTION:The Soveida Ensemble was first established in 2014. Based on a long since forgotten form of Classical Persian music\, the Soveida Ensemble performs on some of the oldest instruments created by man\, including the Tanbour\, Setar\, Tar\, Daf\, Tombak and Ney. \nThis particular style of music called Taghti’i-Igha’i was formulated and classified for the first time about seven centuries ago by Safie-Din Ormavi and Hafez Marâghi\, and was spread throughout Iran and India by Shâh Ne’matollâh Vali. \nThis style of music is a rendition of ancient rhythms that have been passed down from one generation to another\, from teacher to student\, over thousands of years. \nEven though these rhythms have been employed in the East for centuries\, the Soveida Ensemble is the first group who has presented them in a concert format for the benefit of a Western audience. For this reason\, it brings us a unique opportunity to experience the only group playing this specific strain of Classical Persian music in the world. The Soveida Ensemble has been welcomed by audiences in Germany\, France\, Belgium\, Sweden and across the UK. \nThe songs are especially selected and composed based on poems by Rumi\, Hafez and Saadi\, around the message of humanity and unity. \n \nTickets are priced at £5 with the option to donate an additional amount if wished. Funds raised will be used to support MIND in the delivery of specialist mental health support to Afghan Refugee Families – particularly Children & Young People. In both Oxfordshire & Warwickshire. \nPlease book tickets here 
URL:https://www.ox14lp.org.uk/event/charity-concert/
LOCATION:Amey Theatre\, Abingdon School Park Road Abingdon OX14 1DE Email: ase.info@abingdon.org.uk
END:VEVENT
END:VCALENDAR