BEGIN:VCALENDAR
VERSION:2.0
PRODID:-//OX14 Learning Partnership - ECPv6.15.20//NONSGML v1.0//EN
CALSCALE:GREGORIAN
METHOD:PUBLISH
X-ORIGINAL-URL:https://www.ox14lp.org.uk
X-WR-CALDESC:Events for OX14 Learning Partnership
REFRESH-INTERVAL;VALUE=DURATION:PT1H
X-Robots-Tag:noindex
X-PUBLISHED-TTL:PT1H
BEGIN:VTIMEZONE
TZID:Europe/London
BEGIN:DAYLIGHT
TZOFFSETFROM:+0000
TZOFFSETTO:+0100
TZNAME:BST
DTSTART:20200329T010000
END:DAYLIGHT
BEGIN:STANDARD
TZOFFSETFROM:+0100
TZOFFSETTO:+0000
TZNAME:GMT
DTSTART:20201025T010000
END:STANDARD
BEGIN:DAYLIGHT
TZOFFSETFROM:+0000
TZOFFSETTO:+0100
TZNAME:BST
DTSTART:20210328T010000
END:DAYLIGHT
BEGIN:STANDARD
TZOFFSETFROM:+0100
TZOFFSETTO:+0000
TZNAME:GMT
DTSTART:20211031T010000
END:STANDARD
BEGIN:DAYLIGHT
TZOFFSETFROM:+0000
TZOFFSETTO:+0100
TZNAME:BST
DTSTART:20220327T010000
END:DAYLIGHT
BEGIN:STANDARD
TZOFFSETFROM:+0100
TZOFFSETTO:+0000
TZNAME:GMT
DTSTART:20221030T010000
END:STANDARD
END:VTIMEZONE
BEGIN:VEVENT
DTSTART;TZID=Europe/London:20211123T203000
DTEND;TZID=Europe/London:20211123T220000
DTSTAMP:20260426T001802
CREATED:20211020T104011Z
LAST-MODIFIED:20211020T104011Z
UID:232-1637699400-1637704800@www.ox14lp.org.uk
SUMMARY:Lecture: 'A Little History of Philosophy: Some Key moments' - Nigel Warburton
DESCRIPTION:This lecture is ‘A Little History of Philosophy: Some key moments’. This is taken from his book of the same title\, A little History of Philosophy. The talk would suit all ages (and is open to everyone) but might be of particular interest to A-level students thinking of reading philosophy at university. Please register here. 
URL:https://www.ox14lp.org.uk/event/lecture-a-little-history-of-philosophy-some-key-moments-nigel-warburton/
LOCATION:Radley College\, OX14 2HR
END:VEVENT
END:VCALENDAR